BEGIN:VCALENDAR
VERSION:2.0
PRODID:-//3AR - ECPv6.15.12.2//NONSGML v1.0//EN
CALSCALE:GREGORIAN
METHOD:PUBLISH
X-WR-CALNAME:3AR
X-ORIGINAL-URL:https://3ar-na.fr
X-WR-CALDESC:Évènements pour 3AR
REFRESH-INTERVAL;VALUE=DURATION:PT1H
X-Robots-Tag:noindex
X-PUBLISHED-TTL:PT1H
BEGIN:VTIMEZONE
TZID:Europe/Paris
BEGIN:DAYLIGHT
TZOFFSETFROM:+0100
TZOFFSETTO:+0200
TZNAME:CEST
DTSTART:20230326T010000
END:DAYLIGHT
BEGIN:STANDARD
TZOFFSETFROM:+0200
TZOFFSETTO:+0100
TZNAME:CET
DTSTART:20231029T010000
END:STANDARD
BEGIN:DAYLIGHT
TZOFFSETFROM:+0100
TZOFFSETTO:+0200
TZNAME:CEST
DTSTART:20240331T010000
END:DAYLIGHT
BEGIN:STANDARD
TZOFFSETFROM:+0200
TZOFFSETTO:+0100
TZNAME:CET
DTSTART:20241027T010000
END:STANDARD
BEGIN:DAYLIGHT
TZOFFSETFROM:+0100
TZOFFSETTO:+0200
TZNAME:CEST
DTSTART:20250330T010000
END:DAYLIGHT
BEGIN:STANDARD
TZOFFSETFROM:+0200
TZOFFSETTO:+0100
TZNAME:CET
DTSTART:20251026T010000
END:STANDARD
END:VTIMEZONE
BEGIN:VEVENT
DTSTART;TZID=Europe/Paris:20240926T090000
DTEND;TZID=Europe/Paris:20240926T100000
DTSTAMP:20260422T173330
CREATED:20240829T171558Z
LAST-MODIFIED:20240830T063418Z
UID:9235-1727341200-1727344800@3ar-na.fr
SUMMARY:Café Guichet Vert "Le Guichet Vert\, un service ouvert à tous\, sans minimum d'achat !" [Webinaire]
DESCRIPTION:Le réseau 3AR\, en collaboration avec le RESECO\, organise jeudi 26 septembre de 9h à 10h la 5ème édition du Café Guichet Vert sur le thème « Le Guichet Vert\, un service ouvert à tous\, sans minimum d’achat ! ». \n  \nDepuis près de 2 ans\, le Guichet Vert accompagne les acheteurs publics dans leurs projets d’achat durable à travers des conseils de « premier niveau » délivrés gratuitement. \n  \nLe Guichet Vert est un service destiné à tout type de structure soumise au code de la Commande publique\, et ce\, quel que soit le volume d’achat ! \n  \nPour l’illustrer\, deux acheteurs tous deux agents au sein de structures au volume d’achat relativement peu élevé\, viendront partager leur expérience en tant que bénéficiaires du Guichet Vert au cours de ce 5ème webinaire. \n  \nAu programme : \n\nIntroduction : Présentation du Guichet Vert et des réseaux animateurs\nTémoignage 1 : Mairie de Thouaré-Sur-Loire (44) > Marchés d’entretien d’espaces verts\, de locaux et de bâtiments\nTémoignage 2 : Mairie d’Orthez (64) > Marchés de services numériques\, d’entretien de réseaux et de prestations intellectuelles\nTemps de questions/réponses\n\n  \nL’inscription au webinaire est obligatoire. \nMerci de bien vouloir remplir le formulaire d’inscription suivant pour participer au webinaire : \n>> Je m’inscris au Café Guichet Vert << \n  \nLe lien d’accès à la réunion vous sera envoyé par mail quelques jours avant l’événement.
URL:https://3ar-na.fr/evenement/webinaire-cafe-guichet-vert-le-guichet-vert-un-service-ouvert-a-tous-sans-minimum-dachat/
LOCATION:En ligne (Teams)
ATTACH;FMTTYPE=image/png:https://3ar-na.fr/wp-content/uploads/2024/02/logo_guichet_vert.png
END:VEVENT
END:VCALENDAR