BEGIN:VCALENDAR
VERSION:2.0
PRODID:-//3AR - ECPv6.15.12.2//NONSGML v1.0//EN
CALSCALE:GREGORIAN
METHOD:PUBLISH
X-ORIGINAL-URL:https://3ar-na.fr
X-WR-CALDESC:Évènements pour 3AR
REFRESH-INTERVAL;VALUE=DURATION:PT1H
X-Robots-Tag:noindex
X-PUBLISHED-TTL:PT1H
BEGIN:VTIMEZONE
TZID:Europe/Paris
BEGIN:DAYLIGHT
TZOFFSETFROM:+0100
TZOFFSETTO:+0200
TZNAME:CEST
DTSTART:20240331T010000
END:DAYLIGHT
BEGIN:STANDARD
TZOFFSETFROM:+0200
TZOFFSETTO:+0100
TZNAME:CET
DTSTART:20241027T010000
END:STANDARD
BEGIN:DAYLIGHT
TZOFFSETFROM:+0100
TZOFFSETTO:+0200
TZNAME:CEST
DTSTART:20250330T010000
END:DAYLIGHT
BEGIN:STANDARD
TZOFFSETFROM:+0200
TZOFFSETTO:+0100
TZNAME:CET
DTSTART:20251026T010000
END:STANDARD
BEGIN:DAYLIGHT
TZOFFSETFROM:+0100
TZOFFSETTO:+0200
TZNAME:CEST
DTSTART:20260329T010000
END:DAYLIGHT
BEGIN:STANDARD
TZOFFSETFROM:+0200
TZOFFSETTO:+0100
TZNAME:CET
DTSTART:20261025T010000
END:STANDARD
END:VTIMEZONE
BEGIN:VEVENT
DTSTART;TZID=Europe/Paris:20250214T100000
DTEND;TZID=Europe/Paris:20250214T140000
DTSTAMP:20260422T101511
CREATED:20250102T141620Z
LAST-MODIFIED:20250210T162931Z
UID:9709-1739527200-1739541600@3ar-na.fr
SUMMARY:5ème étape du Tour de France des Achats Responsables
DESCRIPTION:Le Réseau 3AR sera présent lors de la 5ᵉ étape du grand Tour de France des Achats Responsables\, organisé par le Conseil National des Achats et la Médiation des Entreprises. Cet événement mettra à l’honneur le Parcours National des Achats Responsables (PNAR)\, une démarche qui valorise la transition des organisations vers des pratiques d’achats éthiques et performantes. \n3AR participera notamment à la table-ronde intitulée « Les achats responsables\, un levier pour la performance des acheteurs publics » (11h45-12h30) où il sera question des outils à disposition des acheteurs publics pour s’engager vers des démarches d’achats durables. \nLa 5e étape du Tour de France des Achats Responsables se tiendra à l’Hôtel de Région en Nouvelle-Aquitaine\, le 14 février 2025 à partir de 10h\, au 14 rue François de Sourdis 33000 BORDEAUX. \n  \nPROGRAMME DE L’ÉVÉNEMENT \n9h30-10h : Accueil des participants \n10h – 10h20 : Introduction de l’événement \n\nEtienne Guyot\, Préfet de la région Nouvelle Aquitaine représenté par M. Laurent Borde (Secrétaire Général aux Affaires Régionales adjoint\, en charge du pôle modernisation et moyens – SGAR)\nAlain Rousset\, Président du Conseil régional de Nouvelle-Aquitaine\n\n10h20 – 10h30 : Présentation du Parcours National des Achats Responsables \n\nPierre Pelouzet\, Médiateur des Entreprises\nJean-Luc Baras\, Président du Conseil National des Achats\n\n10h30 – 11h00 : Témoignages d’entreprises labellisées \n\nGaëlle Verger\, Responsable compliance et RSE au sein de la direction achats de Legrand\nDamien Tokatlian\, Acheteur EDF et médaillé paralympique\n\n11h00 – 11h45 : Table ronde – Les achats responsables\, un levier pour la performance des acheteurs privés \n\nLaurent Ciresa\, Directeur achats travaux Enedis\nMuriel Francillette\, Professeur achats Kedges\nPierre Bergeron\, Directeur technique I2S\nÉglantine Lefort\, étudiante en Master Management des Achats Internationaux et Innovation chez Kedge Business School\n\nAnimation : Matthieu Leroy\, Vice-président CNA Nouvelle Aquitaine \n11h45 – 12h30 : Table ronde – Les achats responsables\, un levier pour la performance des acheteurs publics \n\nFrançois Adam\, Directeur des Achats de l’Etat\nAmélie Coantic\, Adjointe au Commissaire Général au Développement Durable\nAnne Bentz\, Animatrice technique réseau 3AR – Achats publics responsables en Nouvelle-Aquitaine\nSylvie Dupoirier\, Directrice Achats Grand Poitiers\n\n12h30 – 12h45 : Cérémonie de signatures de la Charte RFAR par les entreprises régionales et mot de clôture de l’événement \n\nAccompagnement PME/ETI par Ademe/CCI – Sabine Jean-Dubourg\nSignature de la charte RFAR\nPassage de relais à la région suivante\n\n12h45 – 14h : Cocktail déjeunatoire \n  \nL’accès à l’évènement est gratuit pour tous\, mais sur inscription. Une pièce d’identité vous sera demandée à l’accueil.
URL:https://3ar-na.fr/evenement/5eme-etape-du-tour-de-france-des-achats-reponsables/
LOCATION:Bordeaux- Hôtel de Région
CATEGORIES:Evénements externes
ATTACH;FMTTYPE=image/png:https://3ar-na.fr/wp-content/uploads/2024/12/AfPPNjD-Ag06ouFLYL0p4p9I6_o@1200x670.png
END:VEVENT
END:VCALENDAR