BEGIN:VCALENDAR
VERSION:2.0
PRODID:-//3AR - ECPv6.15.12.2//NONSGML v1.0//EN
CALSCALE:GREGORIAN
METHOD:PUBLISH
X-WR-CALNAME:3AR
X-ORIGINAL-URL:https://3ar-na.fr
X-WR-CALDESC:Évènements pour 3AR
REFRESH-INTERVAL;VALUE=DURATION:PT1H
X-Robots-Tag:noindex
X-PUBLISHED-TTL:PT1H
BEGIN:VTIMEZONE
TZID:Europe/Paris
BEGIN:DAYLIGHT
TZOFFSETFROM:+0100
TZOFFSETTO:+0200
TZNAME:CEST
DTSTART:20240331T010000
END:DAYLIGHT
BEGIN:STANDARD
TZOFFSETFROM:+0200
TZOFFSETTO:+0100
TZNAME:CET
DTSTART:20241027T010000
END:STANDARD
BEGIN:DAYLIGHT
TZOFFSETFROM:+0100
TZOFFSETTO:+0200
TZNAME:CEST
DTSTART:20250330T010000
END:DAYLIGHT
BEGIN:STANDARD
TZOFFSETFROM:+0200
TZOFFSETTO:+0100
TZNAME:CET
DTSTART:20251026T010000
END:STANDARD
BEGIN:DAYLIGHT
TZOFFSETFROM:+0100
TZOFFSETTO:+0200
TZNAME:CEST
DTSTART:20260329T010000
END:DAYLIGHT
BEGIN:STANDARD
TZOFFSETFROM:+0200
TZOFFSETTO:+0100
TZNAME:CET
DTSTART:20261025T010000
END:STANDARD
END:VTIMEZONE
BEGIN:VEVENT
DTSTART;TZID=Europe/Paris:20250523T093000
DTEND;TZID=Europe/Paris:20250523T093000
DTSTAMP:20260422T045952
CREATED:20250502T074656Z
LAST-MODIFIED:20250502T074656Z
UID:10263-1747992600-1747992600@3ar-na.fr
SUMMARY:Une journée pour découvrir les solutions proposées par les acteur·ices de l’ESS
DESCRIPTION:Dans le cadre de la Semaine des Achats Socialement et Écologiquement Responsables\, le consortium PRASER (CRESS Nouvelle-Aquitaine\, INAE et 3AR) organise une journée dédiée aux achats responsables et à l’Économie Sociale et Solidaire. \nCet événement s’adresse : \n\naux acheteurs publics et privés : qui souhaitent travailler davantage avec des structures de l’ESS\, en intégrant des critères sociaux et environnementaux dans leurs marchés\,\naux structures de l’ESS : désireuses de mieux comprendre les attentes des acheteurs et d’accéder à de nouvelles opportunités économiques.\n\nLa journée s’articulera autour de tables rondes\, d’ateliers et de temps d’échanges\, permettant aux participants d’identifier de nouvelles solutions et d’enrichir leurs pratiques. Des témoignages d’acheteurs et de structures viendront illustrer les bonnes pratiques\, les leviers à mobiliser et les bonnes expériences avec l’ESS. \n  \nProgramme\n9h30 : Accueil \n10h00 : Introduction \n10h15 – 12h00 : \n\nTable ronde 1 : Donner du sens à ses achats\nTable ronde 2 : Acheter ESS\, ils l’ont fait !\n\n12h00 – 12h45 : Atelier participatif :\nLes questions à se poser pour travailler ses achats responsables avec l’ESS (outils de sourcing\, bons contacts\, …) \n13h00 -14h30 : Repas partagé \n14h30 – 15h30 : Réseautage d’affaires (pour favoriser les mises en relation entre structures !) \n15h30-16h00 : Clôture \n  \nTarifs et inscriptions\n30€ (repas inclus) / gratuit adhérents CRESS et membres PRASER \nInscription obligatoire \nInformations pratiques\nMaison Départementale des Sports et de la Vie Associative –  33 000 Bordeaux \nAccès Tram D (départ possible Gare Saint-Jean) – arrêt Barrière du Médoc\nParking Metpark : Beaujon\, Libération et Laharpe – Stationnement difficile dans le quartier\, pensez au covoiturage ! \nContact : \nMaylis Bargach – m.bargach@cress-na.org
URL:https://3ar-na.fr/evenement/une-journee-pour-decouvrir-les-solutions-proposees-par-les-acteur%c2%b7ices-de-less/
LOCATION:Maison Départementale des Sports et de la Vie Associative\, 153 rue David Johnston\, Bordeaux\, 33000\, France
CATEGORIES:Evénements externes
ATTACH;FMTTYPE=image/png:https://3ar-na.fr/wp-content/uploads/2025/05/Copie-de-banniere_mail_evenement23mai_aser.png
END:VEVENT
END:VCALENDAR