BEGIN:VCALENDAR
VERSION:2.0
PRODID:-//3AR - ECPv6.15.12.2//NONSGML v1.0//EN
CALSCALE:GREGORIAN
METHOD:PUBLISH
X-ORIGINAL-URL:https://3ar-na.fr
X-WR-CALDESC:Évènements pour 3AR
REFRESH-INTERVAL;VALUE=DURATION:PT1H
X-Robots-Tag:noindex
X-PUBLISHED-TTL:PT1H
BEGIN:VTIMEZONE
TZID:Europe/Paris
BEGIN:DAYLIGHT
TZOFFSETFROM:+0100
TZOFFSETTO:+0200
TZNAME:CEST
DTSTART:20240331T010000
END:DAYLIGHT
BEGIN:STANDARD
TZOFFSETFROM:+0200
TZOFFSETTO:+0100
TZNAME:CET
DTSTART:20241027T010000
END:STANDARD
BEGIN:DAYLIGHT
TZOFFSETFROM:+0100
TZOFFSETTO:+0200
TZNAME:CEST
DTSTART:20250330T010000
END:DAYLIGHT
BEGIN:STANDARD
TZOFFSETFROM:+0200
TZOFFSETTO:+0100
TZNAME:CET
DTSTART:20251026T010000
END:STANDARD
BEGIN:DAYLIGHT
TZOFFSETFROM:+0100
TZOFFSETTO:+0200
TZNAME:CEST
DTSTART:20260329T010000
END:DAYLIGHT
BEGIN:STANDARD
TZOFFSETFROM:+0200
TZOFFSETTO:+0100
TZNAME:CET
DTSTART:20261025T010000
END:STANDARD
END:VTIMEZONE
BEGIN:VEVENT
DTSTART;VALUE=DATE:20250527
DTEND;VALUE=DATE:20250528
DTSTAMP:20260422T032835
CREATED:20250203T120817Z
LAST-MODIFIED:20250514T094744Z
UID:9883-1748304000-1748390399@3ar-na.fr
SUMMARY:[COMPLET] Comment intégrer le réemploi dans nos marchés et suivre la démarche ?
DESCRIPTION:UNE JOURNÉE POUR FAIRE LE TOUR DE LA QUESTION ! \n[réservé à nos adhérents] \nAvec le soutien de l’ADEME Nouvelle-Aquitaine\, le réseau 3AR propose à ses adhérents des journées de formation / sensibilisation sur les sujets de l’économie circulaire appliquée au bâtiment. \nPublic cible au sein de vos structures : services acheteurs et juridiques\, services opérationnels prescripteurs (Patrimoine\, bâtiments\, opérations) \nIntervenante : Mathilde Billet\, architecte – experte réemploi \nMerci de vous inscrire en complétant le formulaire ci-dessous. \nMATIN : le contexte « Réemploi » aujourd’hui \n1 – Mise à niveau\n1.1 – Rappels\n1.2 – Mise en place de la démarche EC\n1.3 – Connaitre son territoire pour répondre à des enjeux liés au réemploi\n1.4 – Les étapes du réemploi \n2 – Vos obligations règlementaire\, le cadre assurantiel\nCadre règlementaire et assurantiel\n2.1 – Obligations légales : cadre réglementaire (généralités\, loi AGEC\, RE2020)\n2.3 – Obligations contractuelles : cadre assurantiel de la construction et du réemploi \nAPRÈS-MIDI : le réemploi dans un projet \n3 – En amont des études : définir une stratégie de réemploi\n3.1 – Chacun son rôle !\n3.1 – Prendre connaissance du contexte\n3.2 – Les sources de matériaux de réemploi\n3.3 – Fixer un objectif de réemploi \n4 – Le réemploi en phase étude\n4.1 – Concevoir avec et pour le réemploi\n4.2 – Faisabilité technique\n4.3 – Faisabilité logistique\n4.4 – Faisabilité économique\n4.5 – Aspect juridique – Cession des matériaux \n5 – Le réemploi en phase travaux\n5.1 – Marché Travaux en réhabilitation/construction\n5.2 – Marché Travaux en déconstruction\n5.3 – Suivi et bilan \n6 – Tout pour faire du réemploi\n6.1 – Présentation des outils disponibles\n6.2 – Présentation des projets en cours à suivre\n6.3 – Présentation des structures ressources en NA et sites internet utiles \n  \nCette session affiche complet\, faites-nous signe directement par mail si vous êtes intéressés pour une prochaine session !
URL:https://3ar-na.fr/evenement/comment-integrer-le-reemploi-dans-nos-marches-et-suivre-la-demarche-3/
LOCATION:Bordeaux
ATTACH;FMTTYPE=image/png:https://3ar-na.fr/wp-content/uploads/2024/12/img_reemploi.png
END:VEVENT
END:VCALENDAR