BEGIN:VCALENDAR
VERSION:2.0
PRODID:-//3AR - ECPv6.15.12.2//NONSGML v1.0//EN
CALSCALE:GREGORIAN
METHOD:PUBLISH
X-ORIGINAL-URL:https://3ar-na.fr
X-WR-CALDESC:Évènements pour 3AR
REFRESH-INTERVAL;VALUE=DURATION:PT1H
X-Robots-Tag:noindex
X-PUBLISHED-TTL:PT1H
BEGIN:VTIMEZONE
TZID:Europe/Paris
BEGIN:DAYLIGHT
TZOFFSETFROM:+0100
TZOFFSETTO:+0200
TZNAME:CEST
DTSTART:20240331T010000
END:DAYLIGHT
BEGIN:STANDARD
TZOFFSETFROM:+0200
TZOFFSETTO:+0100
TZNAME:CET
DTSTART:20241027T010000
END:STANDARD
BEGIN:DAYLIGHT
TZOFFSETFROM:+0100
TZOFFSETTO:+0200
TZNAME:CEST
DTSTART:20250330T010000
END:DAYLIGHT
BEGIN:STANDARD
TZOFFSETFROM:+0200
TZOFFSETTO:+0100
TZNAME:CET
DTSTART:20251026T010000
END:STANDARD
BEGIN:DAYLIGHT
TZOFFSETFROM:+0100
TZOFFSETTO:+0200
TZNAME:CEST
DTSTART:20260329T010000
END:DAYLIGHT
BEGIN:STANDARD
TZOFFSETFROM:+0200
TZOFFSETTO:+0100
TZNAME:CET
DTSTART:20261025T010000
END:STANDARD
END:VTIMEZONE
BEGIN:VEVENT
DTSTART;TZID=Europe/Paris:20250605T110000
DTEND;TZID=Europe/Paris:20250605T123000
DTSTAMP:20260422T032645
CREATED:20250417T115344Z
LAST-MODIFIED:20250604T134121Z
UID:10206-1749121200-1749126600@3ar-na.fr
SUMMARY:Groupe de travail SPASER
DESCRIPTION:[Réservé adhérents] \nà l’ordre du jour : le pilotage opérationnel du SPASER \nApports théoriques et temps pratiques en partage : \nLes différents volets du pilotage SPASER \nCinq actes clefs du pilotage \nMise en situation individuelle : élaborer un tableau des instances du SPASER. \nVie du SPASER sur une année \nMise en situation individuelle : réaliser une frise chronologique des étapes clefs SPASER sur l’année \n\n\n\n\n\nInscription à un groupe de travail-2025\n\n\n\n\n\n\n\n\n    NOM\n        *\n    \n    \n    \n    \n\n\n    Prénom\n        *\n    \n    \n    \n    \n\n\n    STRUCTURE\n        *\n    \n    \n    \n    \n\n\n    Email\n        *\n    \n    \n    \n    \n\n\n    Je souhaite m'inscrire au groupe de travail suivant (au choix):\n        *\n    \n    					\n			 SPASER\n					\n			 Décarbonation\n					\n			 Techniques d'achats\n					\n			 Bâtiment et économie circulaire\n\n    \n    \n\n\n    Je confirme que je suis bien adhérent à 3AR\n        *\n    \n    					\n			 Oui\, je suis adhérent de 3AR\n\n    \n    \n\n\n     RGPD : J'accepte la politique de confidentialité de 3AR\n        *\n    \n    					\n			 oui\n\n    ​Dans le cadre du RGPD\, nous avons remis à jour notre politique de confidentialité que vous pouvez consulter ici : >> https://3ar-na.fr/politique-de-confidentialite/ \nNous vous rappelons que vous pouvez à tout instant exercer votre droit d'accès aux données vous concernant et les faire rectifier en nous contactant directement par mail à animation@3ar-na.fr ​\nLes données personnelles saisies ci-dessus ont pour finalité de vous permettre de pouvoir télécharger les outils réalisés par le réseau 3AR. \n    \n\n\n	\n\nEnvoyer\n\n\n\n	\n			\n			\n				Si vous êtes un humain\, ne remplissez pas ce champ.
URL:https://3ar-na.fr/evenement/groupe-de-travail-spaser-3/
CATEGORIES:Groupes de travail adhérents
ATTACH;FMTTYPE=image/png:https://3ar-na.fr/wp-content/uploads/2023/10/picto_adherez_rencontre-e1704217947359.png
END:VEVENT
END:VCALENDAR