BEGIN:VCALENDAR
VERSION:2.0
PRODID:-//3AR - ECPv6.15.12.2//NONSGML v1.0//EN
CALSCALE:GREGORIAN
METHOD:PUBLISH
X-WR-CALNAME:3AR
X-ORIGINAL-URL:https://3ar-na.fr
X-WR-CALDESC:Évènements pour 3AR
REFRESH-INTERVAL;VALUE=DURATION:PT1H
X-Robots-Tag:noindex
X-PUBLISHED-TTL:PT1H
BEGIN:VTIMEZONE
TZID:Europe/Paris
BEGIN:DAYLIGHT
TZOFFSETFROM:+0100
TZOFFSETTO:+0200
TZNAME:CEST
DTSTART:20240331T010000
END:DAYLIGHT
BEGIN:STANDARD
TZOFFSETFROM:+0200
TZOFFSETTO:+0100
TZNAME:CET
DTSTART:20241027T010000
END:STANDARD
BEGIN:DAYLIGHT
TZOFFSETFROM:+0100
TZOFFSETTO:+0200
TZNAME:CEST
DTSTART:20250330T010000
END:DAYLIGHT
BEGIN:STANDARD
TZOFFSETFROM:+0200
TZOFFSETTO:+0100
TZNAME:CET
DTSTART:20251026T010000
END:STANDARD
BEGIN:DAYLIGHT
TZOFFSETFROM:+0100
TZOFFSETTO:+0200
TZNAME:CEST
DTSTART:20260329T010000
END:DAYLIGHT
BEGIN:STANDARD
TZOFFSETFROM:+0200
TZOFFSETTO:+0100
TZNAME:CET
DTSTART:20261025T010000
END:STANDARD
END:VTIMEZONE
BEGIN:VEVENT
DTSTART;TZID=Europe/Paris:20250619T100000
DTEND;TZID=Europe/Paris:20250619T123000
DTSTAMP:20260422T032046
CREATED:20250423T163823Z
LAST-MODIFIED:20250423T163823Z
UID:10221-1750327200-1750336200@3ar-na.fr
SUMMARY:Groupe de travail "décarbonation"
DESCRIPTION:Réservé aux adhérents 3AR \nLe réseau 3AR lance un nouveau groupe de travail à destination de ses adhérents : le GT décarbonation ! \nDécarbonation des achats publics : de quoi on parle ? \nEt pour les achats publics\, quelles obligations ? quelle méthode ? comment prioriser les exigences environnementales ? des clauses ou critères  prêts à l’emploi ? \nDe nombreuses questions que se posent les adhérents de 3AR et sur lesquelles nous allons travailler collectivement\, avec le soutien de l’ADEME Nouvelle-Aquitaine\, et en partenariat technique avec la Coopérative Carbone. \nComme tous les groupes de travail du réseau\, le format reste libre et la participation sur la base du volontariat et sans engagement : toute bonne volonté est la bienvenue pour participer ! \nIntéressé ? faites-nous signe ! \n\n\n\n\n\nInscription à un groupe de travail-2025\n\n\n\n\n\n\n\n\n    NOM\n        *\n    \n    \n    \n    \n\n\n    Prénom\n        *\n    \n    \n    \n    \n\n\n    STRUCTURE\n        *\n    \n    \n    \n    \n\n\n    Email\n        *\n    \n    \n    \n    \n\n\n    Je souhaite m'inscrire au groupe de travail suivant (au choix):\n        *\n    \n    					\n			 SPASER\n					\n			 Décarbonation\n					\n			 Techniques d'achats\n					\n			 Bâtiment et économie circulaire\n\n    \n    \n\n\n    Je confirme que je suis bien adhérent à 3AR\n        *\n    \n    					\n			 Oui\, je suis adhérent de 3AR\n\n    \n    \n\n\n     RGPD : J'accepte la politique de confidentialité de 3AR\n        *\n    \n    					\n			 oui\n\n    ​Dans le cadre du RGPD\, nous avons remis à jour notre politique de confidentialité que vous pouvez consulter ici : >> https://3ar-na.fr/politique-de-confidentialite/ \nNous vous rappelons que vous pouvez à tout instant exercer votre droit d'accès aux données vous concernant et les faire rectifier en nous contactant directement par mail à animation@3ar-na.fr ​\nLes données personnelles saisies ci-dessus ont pour finalité de vous permettre de pouvoir télécharger les outils réalisés par le réseau 3AR. \n    \n\n\n	\n\nEnvoyer\n\n\n\n	\n			\n			\n				Si vous êtes un humain\, ne remplissez pas ce champ.
URL:https://3ar-na.fr/evenement/groupe-de-travail-decarbonation-2/
LOCATION:Webinaire
CATEGORIES:Groupes de travail adhérents
ATTACH;FMTTYPE=image/png:https://3ar-na.fr/wp-content/uploads/2023/10/picto_adherez_rencontre-e1704217947359.png
END:VEVENT
END:VCALENDAR