BEGIN:VCALENDAR
VERSION:2.0
PRODID:-//3AR - ECPv6.15.12.2//NONSGML v1.0//EN
CALSCALE:GREGORIAN
METHOD:PUBLISH
X-WR-CALNAME:3AR
X-ORIGINAL-URL:https://3ar-na.fr
X-WR-CALDESC:Évènements pour 3AR
REFRESH-INTERVAL;VALUE=DURATION:PT1H
X-Robots-Tag:noindex
X-PUBLISHED-TTL:PT1H
BEGIN:VTIMEZONE
TZID:Europe/Paris
BEGIN:DAYLIGHT
TZOFFSETFROM:+0100
TZOFFSETTO:+0200
TZNAME:CEST
DTSTART:20240331T010000
END:DAYLIGHT
BEGIN:STANDARD
TZOFFSETFROM:+0200
TZOFFSETTO:+0100
TZNAME:CET
DTSTART:20241027T010000
END:STANDARD
BEGIN:DAYLIGHT
TZOFFSETFROM:+0100
TZOFFSETTO:+0200
TZNAME:CEST
DTSTART:20250330T010000
END:DAYLIGHT
BEGIN:STANDARD
TZOFFSETFROM:+0200
TZOFFSETTO:+0100
TZNAME:CET
DTSTART:20251026T010000
END:STANDARD
BEGIN:DAYLIGHT
TZOFFSETFROM:+0100
TZOFFSETTO:+0200
TZNAME:CEST
DTSTART:20260329T010000
END:DAYLIGHT
BEGIN:STANDARD
TZOFFSETFROM:+0200
TZOFFSETTO:+0100
TZNAME:CET
DTSTART:20261025T010000
END:STANDARD
END:VTIMEZONE
BEGIN:VEVENT
DTSTART;VALUE=DATE:20250915
DTEND;VALUE=DATE:20250917
DTSTAMP:20260421T231453
CREATED:20250217T174521Z
LAST-MODIFIED:20250901T100646Z
UID:10034-1757894400-1758067199@3ar-na.fr
SUMMARY:Formation initiale "La commande publique durable" : les 15 et 16 septembre à Bordeaux
DESCRIPTION:[SESSION COMPLÈTE]\nACHATS PUBLICS RESPONSABLES : Des achats au service d’une performance globale !\n3AR\, en partenariat avec l’ADEME Nouvelle-Aquitaine et le Réseau RESECO\, propose une formation initiale aux achats publics responsables \nObjectif général de la formation :\nÀ l’issue de la formation\, les stagiaires seront en mesure de promouvoir et accompagner la prise en compte de la responsabilité sociétale dans leurs achats. \nObjectifs pédagogiques – Permettre aux stagiaires :\n– de connaître le champ d’application de la commande publique\, son évolution au cours des dernières années et son actualité\n– de savoir expliquer ce qu’est un achat responsable et pourvoir argumenter sur le bien-fondé de la démarche\n– d’identifier toutes les étapes du cycle de l’achat et les opportunités associées pour réaliser un achat responsable\n– d’être en mesure d’organiser et de hiérarchiser son action en matière d’achats responsables\n– de connaître les réseaux achats publics responsables\, leurs travaux et être en mesure d’y participer \nPublic visé :\nAcheteurs publics (services marchés/commande publique\, agents en charge de la fonction « achats »)\, agents/équipes de Direction impliqués dans les démarches de Développement Durable/RSE\, mais aussi élu(e)s des structures soumises à la réglementation en matière de marchés publics. \n  \nFormation gratuite\, réservée aux adhérents du réseau 3AR (limité à 2 agents par structure et par session) \nLes frais de déplacement et de restauration ne sont pas pris en charge. \nConsulter le programme \n 
URL:https://3ar-na.fr/evenement/formation-initiale-la-commande-publique-durable-les-15-et-16-septembre-a-bordeaux/
LOCATION:Bordeaux
CATEGORIES:Formations
ATTACH;FMTTYPE=image/jpeg:https://3ar-na.fr/wp-content/uploads/2021/10/Arrière-plan-1.jpg
ORGANIZER;CN="3AR":MAILTO:animation@3ar-na.fr
END:VEVENT
BEGIN:VEVENT
DTSTART;TZID=Europe/Paris:20250916T090000
DTEND;TZID=Europe/Paris:20250916T140000
DTSTAMP:20260421T231453
CREATED:20250626T132226Z
LAST-MODIFIED:20250707T163701Z
UID:10576-1758013200-1758031200@3ar-na.fr
SUMMARY:Formation "Achats publics responsables : le rôle de l'élu"
DESCRIPTION:Vous êtes élu et vous souhaitez utiliser les achats publics comme un levier de transition sociale\, économique et écologique des territoires ? \nRejoignez notre formation Achats publics responsables à destination des élus ! (gratuit) \nCe module a été développé par notre réseau ami et cousin\, le RESECO\, dans le cadre du Plan National des Achats Durables soutenu par le CGDD. Nous le déployons en région avec le soutien de nos élus administrateurs. \n  \nDurant cette demi-journée\, les participants comprendront le contexte et les enjeux\, les outils à leur disposition\, et l’importance de l’élu dans la démarche. \nProgramme :\n1- Introduction et présentations\n2 – Les achats publics durables : pourquoi ?​\n3 – Les achats publics durables : comment ?\n4 – Le rôle des élus​\n5 – Structuration d’une démarche achats durables \nIntervenants : Cyril Gayssot\, élu au Département des Landes et Anne Bentz\, directrice de l’association 3AR \nUne table sera réservée pour les personnes souhaitant poursuivre les échanges. \nMerci de vous inscrire ! \n\n\n\n\n\n20250916-ELUS\n\n\n\n\n\n\n\n\n\n    Votre NOM\n        *\n    \n    \n    \n    \n\n\n    Votre Prénom\n        *\n    \n    \n    \n    \n\n\n    Votre Fonction\n        *\n    \n    \n    \n    \n\n\n    Votre STRUCTURE\n        *\n    \n    \n    \n    \n\n\n    Email - Merci de vérifier que l'adresse saisie est correcte sans quoi vous ne recevrez pas les informations en lien avec notre événement !\n        *\n    \n    \n    \n    \n\n\n    Participerez-vous à ce temps d'échanges ?\n        *\n    \n    					\n			 Oui\n					\n			 Non\n\n    \n    \n\n\n    Droit d'image\n        *\n    \n    					\n			 Oui\n					\n			 Non\n\n    Clause obligatoire de droit à l'image - "J’autorise 3AR (et ses partenaires) à fixer\, reproduire et communiquer au public mon image par le biais de documents\, photos ou vidéos\, qui pourront être mis en ligne sur le site internet de 3AR (et de ses partenaires) ou diffusés sur tout autre support de communication (presse-écrite\, audiovisuel\, informatique\, Internet etc)\, dans le cadre de la promotion de cet événement\, sans limitation de durée\, sans contrepartie financière et à l’exception de toute opération commerciale"​.\n\n"Je reconnais avoir pris connaissance de la clause de droit à l'image et l'accepter"\n    \n\n\n    RGPD\n        *\n    \n    					\n			 J'accepte la politique de confidentialité de 3AR\n\n    ​Dans le cadre du RGPD\, nous avons remis à jour notre politique de confidentialité que vous pouvez consulter ici : >> https://3ar-na.fr/politique-de-confidentialite/\nNous vous rappelons que vous pouvez à tout instant exercer votre droit d'accès aux données vous concernant et les faire rectifier en nous contactant directement par mail à animation@3ar-na.fr\n\n​J'accepte la politique de confidentialité de 3AR. Les données personnelles saisies ci-dessus ont pour finalité de vous permettre de pouvoir participer aux différents événements du réseau\n    \n\n\n	\n\nEnvoyer\n\n\n\n	\n			\n			\n				Si vous êtes un humain\, ne remplissez pas ce champ.			\n			\n		\n		\n\n\n\n\n\n]
URL:https://3ar-na.fr/evenement/formation-achats-publics-responsables-le-role-de-lelu-2/
LOCATION:Domolandes – Saint Geours de Maremne (40)
CATEGORIES:Formations
ATTACH;FMTTYPE=image/jpeg:https://3ar-na.fr/wp-content/uploads/2024/09/img_formation_elus.jpg
END:VEVENT
END:VCALENDAR