BEGIN:VCALENDAR
VERSION:2.0
PRODID:-//3AR - ECPv6.15.12.2//NONSGML v1.0//EN
CALSCALE:GREGORIAN
METHOD:PUBLISH
X-WR-CALNAME:3AR
X-ORIGINAL-URL:https://3ar-na.fr
X-WR-CALDESC:Évènements pour 3AR
REFRESH-INTERVAL;VALUE=DURATION:PT1H
X-Robots-Tag:noindex
X-PUBLISHED-TTL:PT1H
BEGIN:VTIMEZONE
TZID:Europe/Paris
BEGIN:DAYLIGHT
TZOFFSETFROM:+0100
TZOFFSETTO:+0200
TZNAME:CEST
DTSTART:20240331T010000
END:DAYLIGHT
BEGIN:STANDARD
TZOFFSETFROM:+0200
TZOFFSETTO:+0100
TZNAME:CET
DTSTART:20241027T010000
END:STANDARD
BEGIN:DAYLIGHT
TZOFFSETFROM:+0100
TZOFFSETTO:+0200
TZNAME:CEST
DTSTART:20250330T010000
END:DAYLIGHT
BEGIN:STANDARD
TZOFFSETFROM:+0200
TZOFFSETTO:+0100
TZNAME:CET
DTSTART:20251026T010000
END:STANDARD
BEGIN:DAYLIGHT
TZOFFSETFROM:+0100
TZOFFSETTO:+0200
TZNAME:CEST
DTSTART:20260329T010000
END:DAYLIGHT
BEGIN:STANDARD
TZOFFSETFROM:+0200
TZOFFSETTO:+0100
TZNAME:CET
DTSTART:20261025T010000
END:STANDARD
END:VTIMEZONE
BEGIN:VEVENT
DTSTART;TZID=Europe/Paris:20251127T090000
DTEND;TZID=Europe/Paris:20251127T170000
DTSTAMP:20260421T194344
CREATED:20251009T094418Z
LAST-MODIFIED:20251125T144801Z
UID:11044-1764234000-1764262800@3ar-na.fr
SUMMARY:Formation | L'introduction de produits bio\, locaux et de qualité en restauration collective : Zoom sur les achats de faible montant
DESCRIPTION:Formation organisée par le Réseau 3AR avec le soutien de la Direction régionale de l’Alimentation\, de l’Agriculture et de la Forêt (DRAAF). \n  \nObjectifs : \n\nAppréhender le cadre réglementaire en matière d’achats durables pour les denrées alimentaires\nAcquérir les bases de la commande publique pour les achats de faible montant\nIdentifier les leviers d’action et outils pour atteindre les objectifs de la loi EGAlim et piloter le suivi de ses achats en gré à gré\n\n  \nAu programme : \n\nLe cadre réglementaire en matière d’achats durables\nAchats de faible montant : que dit le code de la commande publique ?\nFavoriser les produits bio\, locaux et de qualité : exemples de bonnes pratiques et outils\n\n  \nIntervenantes : \nCéline Latour\, chargée de mission Achats responsables (3AR) \nMargot Poletti\, chargée de projets Achats responsables (3AR) \n  \nPublic concerné : \n\nGestionnaire\, chargé·e de la commande publique\nDirecteur·rice de la restauration collective\nChargé·e de mission PAT (Projet Alimentaire Territorial)\, conseiller·e technique en restauration collective\nCuisinier·e\nResponsable de production\n\n  \n>> Voir le programme de la journée \n  \nGratuit\, sur inscription
URL:https://3ar-na.fr/evenement/formation-lintroduction-de-produits-bio-locaux-et-de-qualite-en-restauration-collective-zoom-sur-les-achats-de-faible-montant/
LOCATION:Siège Communauté de Communes Grand Saint-Émilionnais – Saint-Émilion (33)\, 1109 Route de la Gare\, Saint-Émilion\, 33330\, France
CATEGORIES:Formations
ATTACH;FMTTYPE=image/jpeg:https://3ar-na.fr/wp-content/uploads/2023/02/visuel-resto-co.jpg
END:VEVENT
END:VCALENDAR