BEGIN:VCALENDAR
VERSION:2.0
PRODID:-//3AR - ECPv6.15.12.2//NONSGML v1.0//EN
CALSCALE:GREGORIAN
METHOD:PUBLISH
X-WR-CALNAME:3AR
X-ORIGINAL-URL:https://3ar-na.fr
X-WR-CALDESC:Évènements pour 3AR
REFRESH-INTERVAL;VALUE=DURATION:PT1H
X-Robots-Tag:noindex
X-PUBLISHED-TTL:PT1H
BEGIN:VTIMEZONE
TZID:Europe/Paris
BEGIN:DAYLIGHT
TZOFFSETFROM:+0100
TZOFFSETTO:+0200
TZNAME:CEST
DTSTART:20240331T010000
END:DAYLIGHT
BEGIN:STANDARD
TZOFFSETFROM:+0200
TZOFFSETTO:+0100
TZNAME:CET
DTSTART:20241027T010000
END:STANDARD
BEGIN:DAYLIGHT
TZOFFSETFROM:+0100
TZOFFSETTO:+0200
TZNAME:CEST
DTSTART:20250330T010000
END:DAYLIGHT
BEGIN:STANDARD
TZOFFSETFROM:+0200
TZOFFSETTO:+0100
TZNAME:CET
DTSTART:20251026T010000
END:STANDARD
BEGIN:DAYLIGHT
TZOFFSETFROM:+0100
TZOFFSETTO:+0200
TZNAME:CEST
DTSTART:20260329T010000
END:DAYLIGHT
BEGIN:STANDARD
TZOFFSETFROM:+0200
TZOFFSETTO:+0100
TZNAME:CET
DTSTART:20261025T010000
END:STANDARD
END:VTIMEZONE
BEGIN:VEVENT
DTSTART;TZID=Europe/Paris:20251210T100000
DTEND;TZID=Europe/Paris:20251210T120000
DTSTAMP:20260421T180440
CREATED:20251112T112655Z
LAST-MODIFIED:20251113T113056Z
UID:11317-1765360800-1765368000@3ar-na.fr
SUMMARY:Participez à un groupe d'experts et acheteurs pour échanger sur EGAlim !
DESCRIPTION:Dans le cadre de nos travaux autour de la restauration collective\, avec le soutien de la DRAAF Nouvelle-Aquitaine et en partenariat technique avec INTERBIO\, nous lançons des temps d’échanges qui nous permettront de travailler de manière approfondie sur certains critères EGAlim qui posent question\, comme les notions d’équivalence\, de performances en matière de protection de l’environnement/développement des approvisionnements directs. \nObjectif : production de documentation « avis d’expert » permettant une analyse détaillée de 2 critères EGAlim sous le prisme commande publique \nPour qui ? acheteurs publics ayant une bonne connaissance des marchés en restauration collective (fournitures et services) \n  \nLa 2nde réunion se tiendra en visio mercredi 10 décembre de 10h à 12h. \nElle sera consacrée au critère « performances en matière de protection de l’environnement/développement des approvisionnements directs ». \n  \n  \n 
URL:https://3ar-na.fr/evenement/participez-a-un-groupe-dexperts-et-acheteurs-pour-echanger-sur-egalim/
LOCATION:En ligne
CATEGORIES:Groupes de travail adhérents
ATTACH;FMTTYPE=image/png:https://3ar-na.fr/wp-content/uploads/2025/09/vignette_GT_EGAlim.png
END:VEVENT
END:VCALENDAR