BEGIN:VCALENDAR
VERSION:2.0
PRODID:-//3AR - ECPv6.15.12.2//NONSGML v1.0//EN
CALSCALE:GREGORIAN
METHOD:PUBLISH
X-WR-CALNAME:3AR
X-ORIGINAL-URL:https://3ar-na.fr
X-WR-CALDESC:Évènements pour 3AR
REFRESH-INTERVAL;VALUE=DURATION:PT1H
X-Robots-Tag:noindex
X-PUBLISHED-TTL:PT1H
BEGIN:VTIMEZONE
TZID:Europe/Paris
BEGIN:DAYLIGHT
TZOFFSETFROM:+0100
TZOFFSETTO:+0200
TZNAME:CEST
DTSTART:20250330T010000
END:DAYLIGHT
BEGIN:STANDARD
TZOFFSETFROM:+0200
TZOFFSETTO:+0100
TZNAME:CET
DTSTART:20251026T010000
END:STANDARD
BEGIN:DAYLIGHT
TZOFFSETFROM:+0100
TZOFFSETTO:+0200
TZNAME:CEST
DTSTART:20260329T010000
END:DAYLIGHT
BEGIN:STANDARD
TZOFFSETFROM:+0200
TZOFFSETTO:+0100
TZNAME:CET
DTSTART:20261025T010000
END:STANDARD
BEGIN:DAYLIGHT
TZOFFSETFROM:+0100
TZOFFSETTO:+0200
TZNAME:CEST
DTSTART:20270328T010000
END:DAYLIGHT
BEGIN:STANDARD
TZOFFSETFROM:+0200
TZOFFSETTO:+0100
TZNAME:CET
DTSTART:20271031T010000
END:STANDARD
END:VTIMEZONE
BEGIN:VEVENT
DTSTART;TZID=Europe/Paris:20260304T093000
DTEND;TZID=Europe/Paris:20260304T163000
DTSTAMP:20260421T131601
CREATED:20251208T103157Z
LAST-MODIFIED:20260106T114726Z
UID:11415-1772616600-1772641800@3ar-na.fr
SUMMARY:Formation Fresque des Achats Publics Durables à Bordeaux
DESCRIPTION:[RÉSERVÉ ADHÉRENTS] \nFormée à la Fresque des Achats Publics Durables\, l’équipe du Réseau 3AR vous invite à une journée gratuite pour apprendre à animer cet outil au sein de votre structure et sensibiliser vos équipes à l’achat durable. \n📍Hôtel de Bordeaux Métropole\, Salon d’Honneur (rez-de-chaussée) \n📅Mercredi 4 mars 2026 \n🕒9h30 – 16h30 \n  \n➡️ La Fresque\, c’est quoi ?​ \nCréée par le RES’OCC (réseau régional de la commande publique durable en Occitanie) dans le cadre du PNAD (Plan national pour des achats durables)\, la Fresque des Achats Publics Durables est un outil pédagogique innovant destiné à sensibiliser aux enjeux liés à la commande publique durable. Elle offre une approche systémique qui aide à mieux intégrer les principes du développement durable dans les pratiques d’achat des collectivités et organismes publics. \nC’est un outil ludique\, collaboratif et visuel. \n📅 Programme :  \n9h30-12h30 : Vivez la Fresque des Achats Publics Durables* \n\nMise en situation sur un segment d’achat (Objets promotionnels\, Denrées alimentaires ou Bâtiment et Economie Circulaire)\nFresque représentant les différentes étapes du processus achat.\n\n14h-16h30 : Formation à l’animation de la Fresque des Achats Publics Durables. \n\nEléments généraux sur l’atelier\nLe rôle d’animation et les outils à disposition\nDéroulé de la fresque : détail des étapes\n\n* Si vous avez déjà participé à la Fresque des Achats Publics Durables\, il est possible de ne venir que l’après-midi pour la formation à l’animation. \n👥Pour qui ?​ \nAcheteur·euses\, prescripteur·ice·s\, élu·e·s\, et toute personne travaillant en partenariat avec la commande publique et souhaitant sensibiliser ses équipes à l’achat durable. \n\nCette animation/formation est réservée aux adhérents 3AR sur inscription (nombre de places limité). Inscriptions ci-dessous ⬇️ \n\n 
URL:https://3ar-na.fr/evenement/formation-fresque-des-achats-publics-durables-a-bordeaux/
LOCATION:Bordeaux – Hôtel Bordeaux métropole\, Esplanade Charles de Gaulle\, Bordeaux\, 33076
ATTACH;FMTTYPE=image/jpeg:https://3ar-na.fr/wp-content/uploads/2025/02/Presentation-fresque-PDF-VDEF_page-0001.jpg
END:VEVENT
END:VCALENDAR