BEGIN:VCALENDAR
VERSION:2.0
PRODID:-//3AR - ECPv6.15.12.2//NONSGML v1.0//EN
CALSCALE:GREGORIAN
METHOD:PUBLISH
X-WR-CALNAME:3AR
X-ORIGINAL-URL:https://3ar-na.fr
X-WR-CALDESC:Évènements pour 3AR
REFRESH-INTERVAL;VALUE=DURATION:PT1H
X-Robots-Tag:noindex
X-PUBLISHED-TTL:PT1H
BEGIN:VTIMEZONE
TZID:Europe/Paris
BEGIN:DAYLIGHT
TZOFFSETFROM:+0100
TZOFFSETTO:+0200
TZNAME:CEST
DTSTART:20250330T010000
END:DAYLIGHT
BEGIN:STANDARD
TZOFFSETFROM:+0200
TZOFFSETTO:+0100
TZNAME:CET
DTSTART:20251026T010000
END:STANDARD
BEGIN:DAYLIGHT
TZOFFSETFROM:+0100
TZOFFSETTO:+0200
TZNAME:CEST
DTSTART:20260329T010000
END:DAYLIGHT
BEGIN:STANDARD
TZOFFSETFROM:+0200
TZOFFSETTO:+0100
TZNAME:CET
DTSTART:20261025T010000
END:STANDARD
BEGIN:DAYLIGHT
TZOFFSETFROM:+0100
TZOFFSETTO:+0200
TZNAME:CEST
DTSTART:20270328T010000
END:DAYLIGHT
BEGIN:STANDARD
TZOFFSETFROM:+0200
TZOFFSETTO:+0100
TZNAME:CET
DTSTART:20271031T010000
END:STANDARD
END:VTIMEZONE
BEGIN:VEVENT
DTSTART;VALUE=DATE:20260519
DTEND;VALUE=DATE:20260520
DTSTAMP:20260421T211023
CREATED:20260331T093715Z
LAST-MODIFIED:20260331T094539Z
UID:12062-1779148800-1779235199@3ar-na.fr
SUMMARY:[Nos adhérents à l'honneur] Rencontre commande publique à Agen le 19 mai
DESCRIPTION:Notre adhérent Département de Lot-et-Garonne\, Lauréat des Trophées des achats publics\, accueillera la prochaine rencontre commande publique du média achat public info. \nAu programme :\n \n\nCafé d’accueil à partir de 08h30\nIntroduction de la matinée\nChristian Dezalos\, vice-président\, Conseil départemental de Lot-et-Garonne\nPrésentation des dernières actualités achatpublic.com\nPascaline Gojin\, Directrice générale\, achatpublic.com\nRetour d’expérience du Département de Lot-et-Garonne\, lauréat des Trophées de la commande publique 2025\nMarine Boutet\, Chef du Service achats et commande publique\, Conseil départemental de Lot-et-Garonne\nDémonstration du Portail de l’achat public\nNaiman Abdul\, Responsable Grands Comptes\, achatpublic.com\nActualités de la commande publique – Zoom sur la pratique dite des 3 devis et des achats de faible montant\nNicolas Maderay\, Avocat associé\, Barreau de Bordeaux \, Squair AARPI\n\nLa matinée sera suivie\, pour ceux qui le souhaitent\, par un déjeuner et une visite de l’atelier du Centre de détention d’Eysses à Villeneuve-sur-Lot. \n⚠️ Attention : places limitées et déjeuner à régler sur place \n  \n+ d’infos et inscriptions
URL:https://3ar-na.fr/evenement/nos-adherents-a-lhonneur-rencontre-commande-publique-a-agen-le-19-mai/
LOCATION:Agen
CATEGORIES:Evénements externes
ATTACH;FMTTYPE=image/webp:https://3ar-na.fr/wp-content/uploads/2026/03/HEADER-LP-Rencontre-agen-1-e1774950283860.webp
END:VEVENT
END:VCALENDAR