BEGIN:VCALENDAR
VERSION:2.0
PRODID:-//3AR - ECPv6.15.12.2//NONSGML v1.0//EN
CALSCALE:GREGORIAN
METHOD:PUBLISH
X-ORIGINAL-URL:https://3ar-na.fr
X-WR-CALDESC:Évènements pour 3AR
REFRESH-INTERVAL;VALUE=DURATION:PT1H
X-Robots-Tag:noindex
X-PUBLISHED-TTL:PT1H
BEGIN:VTIMEZONE
TZID:Europe/Paris
BEGIN:DAYLIGHT
TZOFFSETFROM:+0100
TZOFFSETTO:+0200
TZNAME:CEST
DTSTART:20250330T010000
END:DAYLIGHT
BEGIN:STANDARD
TZOFFSETFROM:+0200
TZOFFSETTO:+0100
TZNAME:CET
DTSTART:20251026T010000
END:STANDARD
BEGIN:DAYLIGHT
TZOFFSETFROM:+0100
TZOFFSETTO:+0200
TZNAME:CEST
DTSTART:20260329T010000
END:DAYLIGHT
BEGIN:STANDARD
TZOFFSETFROM:+0200
TZOFFSETTO:+0100
TZNAME:CET
DTSTART:20261025T010000
END:STANDARD
BEGIN:DAYLIGHT
TZOFFSETFROM:+0100
TZOFFSETTO:+0200
TZNAME:CEST
DTSTART:20270328T010000
END:DAYLIGHT
BEGIN:STANDARD
TZOFFSETFROM:+0200
TZOFFSETTO:+0100
TZNAME:CET
DTSTART:20271031T010000
END:STANDARD
END:VTIMEZONE
BEGIN:VEVENT
DTSTART;TZID=Europe/Paris:20260528T093000
DTEND;TZID=Europe/Paris:20260528T170000
DTSTAMP:20260421T132023
CREATED:20260416T101522Z
LAST-MODIFIED:20260416T120648Z
UID:12140-1779960600-1779987600@3ar-na.fr
SUMMARY:[3AR y sera !] Journée Technique autour de la réhabilitation de l'ancien centre de formation de Civray (86)
DESCRIPTION:La Communauté de Communes Civraisien en Poitou\, adhérente au réseau 3AR mène une démarche de réemploi avec l’Ecologie Industrielle et Territoriale (EIT) sud Vienne sur le projet de réhabilitation de l’ancien CFA de Civray en vue de la construction d’un pôle enfance. Avec pour thématique « la déconstruction propre : l’exemple d’un projet de réhabilitation de l’ancien CFA de Civray »\, l’évènement a vocation à sensibiliser\, illustrer la méthodologie utilisée et ses résultats et ouvrir la réflexion sur les axes d’amélioration. \nCe temps à destination des MOA/MOE/architectes a pour objectif de : \n👉Échanger autour de l’écriture des critères environnementaux et sociaux d’un marché public\, comment intégrer le suivi et les pénalités. \n👉Échanger et capitaliser sur les aspects opérationnels liés au réemploi\, à la gestion de déchets et les heures d’insertion réalisées de la 1ère tranche de travaux. \nDEROULE JOURNEE  \n\nMatin : « Fresque de la commande publique durable » par 3AR\n\n9h30 : Accueil café\, introduction\, tour de table \n10h : Atelier « fresque des achats publiques durables » : Plongez-vous au cœur d’un projet de travaux d’une ville de taille moyenne et identifiez les\nenjeux\, les réglementations\, les leviers et les outils qui vous permettront d’intégrer vos chantiers à vos démarches de développement durable territorial aussi bien sur le plan environnemental\, social qu’économique.\nCette étude de cas vous permettra de former toutes vos équipes sur la commande publique durable dans le BTP. \n\nMidi : déjeuner\, réseautage et visite de la zone réemploi du chantier\n\n12h30/13h30 : Déjeuner réseautage \n\nAprès-midi : Tables-rondes et visite de la zone de réemploi et ouverture médiathèque éphémère\n\n13h30 : accueil café avec temps de réseautage dans la zone réemploi pour «briser la glace » \n14h : Rappel du contexte du projet CFA \n14h15 : Table-ronde 1 – Intégrer du réemploi dans un marché public de travaux \n15h : Table ronde 2 : Retour d’expérience sur la coordination du MOE/AMO réemploi entre acteurs ESS\, entreprise de démolition\, et les attentes de la MOA lors du pré-curage et curage \n  \nLien d’inscription : https://forms.gle/ynNYRgxvJ3Ruhcrq5 
URL:https://3ar-na.fr/evenement/3ar-y-sera-journee-technique-autour-de-la-rehabilitation-dune-friche-industrielle-a-civray-86/
LOCATION:Civray
CATEGORIES:Evénements externes
ATTACH;FMTTYPE=image/png:https://3ar-na.fr/wp-content/uploads/2026/04/Capture-decran-2026-04-16-133732-e1776340184569.png
END:VEVENT
END:VCALENDAR