BEGIN:VCALENDAR
VERSION:2.0
PRODID:-//3AR - ECPv6.15.12.2//NONSGML v1.0//EN
CALSCALE:GREGORIAN
METHOD:PUBLISH
X-WR-CALNAME:3AR
X-ORIGINAL-URL:https://3ar-na.fr
X-WR-CALDESC:Évènements pour 3AR
REFRESH-INTERVAL;VALUE=DURATION:PT1H
X-Robots-Tag:noindex
X-PUBLISHED-TTL:PT1H
BEGIN:VTIMEZONE
TZID:Europe/Paris
BEGIN:DAYLIGHT
TZOFFSETFROM:+0100
TZOFFSETTO:+0200
TZNAME:CEST
DTSTART:20250330T010000
END:DAYLIGHT
BEGIN:STANDARD
TZOFFSETFROM:+0200
TZOFFSETTO:+0100
TZNAME:CET
DTSTART:20251026T010000
END:STANDARD
BEGIN:DAYLIGHT
TZOFFSETFROM:+0100
TZOFFSETTO:+0200
TZNAME:CEST
DTSTART:20260329T010000
END:DAYLIGHT
BEGIN:STANDARD
TZOFFSETFROM:+0200
TZOFFSETTO:+0100
TZNAME:CET
DTSTART:20261025T010000
END:STANDARD
BEGIN:DAYLIGHT
TZOFFSETFROM:+0100
TZOFFSETTO:+0200
TZNAME:CEST
DTSTART:20270328T010000
END:DAYLIGHT
BEGIN:STANDARD
TZOFFSETFROM:+0200
TZOFFSETTO:+0100
TZNAME:CET
DTSTART:20271031T010000
END:STANDARD
END:VTIMEZONE
BEGIN:VEVENT
DTSTART;TZID=Europe/Paris:20260601T110000
DTEND;TZID=Europe/Paris:20260601T120000
DTSTAMP:20260421T113833
CREATED:20260407T143301Z
LAST-MODIFIED:20260407T143428Z
UID:12105-1780311600-1780315200@3ar-na.fr
SUMMARY:Groupe de travail "déclaration de ses données AGEC"
DESCRIPTION:[Réservé aux adhérents 3AR] \nDans la continuité du parcours AGEC qui a été proposé à l’automne 2025\, le réseau 3AR lance un groupe de travail AGEC à destination de ses adhérents axé\, pour cette 1ère session\, sur la déclaration des données relatives aux achats de produits issus du réemploi et intégrant des matières recyclées ! \nQuelles obligations ? Comment obtenir les données ? Quelles pratiques au sein du réseau 3AR ? \nDe nombreuses questions que se posent les adhérents de 3AR et sur lesquelles nous allons travailler collectivement le lundi 1er juin de 11h à 12h ! \n  \nComme tous les groupes de travail du réseau\, le format reste libre et la participation sur la base du volontariat et sans engagement : toute bonne volonté est la bienvenue pour participer ! \nIntéressé·e ? faites-nous signe en remplissant le formulaire ci-dessous ! \n\n\n\n\n\nJuin 2026_GT déclaration données AGEC\n\n\n\n\n\n\n\n\n    NOM\n        *\n    \n    \n    \n    \n\n\n    Prénom\n        *\n    \n    \n    \n    \n\n\n    STRUCTURE\n        *\n    \n    \n    \n    \n\n\n    Email\n        *\n    \n    \n    \n    \n\n\n    Je souhaite participer : \n        *\n    \n    					\n			 au GT déclaration des données AGEC\n\n    \n    \n\n\n    Nous procédons déjà aux remontées des données AGEC au national :\n        *\n    \n    					\n			 Oui\n					\n			 Non\n\n    \n    \n\n\n	RGPD\n		\n	\n	\n	\n	\n\n\n	\n\nEnvoyer\n\n\n\n	\n			\n			\n				Si vous êtes un humain\, ne remplissez pas ce champ.
URL:https://3ar-na.fr/evenement/groupe-de-travail-declaration-de-ses-donnees-agec/
LOCATION:Webinaire
CATEGORIES:Groupes de travail adhérents
ATTACH;FMTTYPE=image/png:https://3ar-na.fr/wp-content/uploads/2023/10/picto_adherez_rencontre-e1704217947359.png
END:VEVENT
END:VCALENDAR