BEGIN:VCALENDAR
VERSION:2.0
PRODID:-//3AR - ECPv6.15.12.2//NONSGML v1.0//EN
CALSCALE:GREGORIAN
METHOD:PUBLISH
X-ORIGINAL-URL:https://3ar-na.fr
X-WR-CALDESC:Évènements pour 3AR
REFRESH-INTERVAL;VALUE=DURATION:PT1H
X-Robots-Tag:noindex
X-PUBLISHED-TTL:PT1H
BEGIN:VTIMEZONE
TZID:Europe/Paris
BEGIN:DAYLIGHT
TZOFFSETFROM:+0100
TZOFFSETTO:+0200
TZNAME:CEST
DTSTART:20250330T010000
END:DAYLIGHT
BEGIN:STANDARD
TZOFFSETFROM:+0200
TZOFFSETTO:+0100
TZNAME:CET
DTSTART:20251026T010000
END:STANDARD
BEGIN:DAYLIGHT
TZOFFSETFROM:+0100
TZOFFSETTO:+0200
TZNAME:CEST
DTSTART:20260329T010000
END:DAYLIGHT
BEGIN:STANDARD
TZOFFSETFROM:+0200
TZOFFSETTO:+0100
TZNAME:CET
DTSTART:20261025T010000
END:STANDARD
BEGIN:DAYLIGHT
TZOFFSETFROM:+0100
TZOFFSETTO:+0200
TZNAME:CEST
DTSTART:20270328T010000
END:DAYLIGHT
BEGIN:STANDARD
TZOFFSETFROM:+0200
TZOFFSETTO:+0100
TZNAME:CET
DTSTART:20271031T010000
END:STANDARD
END:VTIMEZONE
BEGIN:VEVENT
DTSTART;TZID=Europe/Paris:20260602T093000
DTEND;TZID=Europe/Paris:20260602T170000
DTSTAMP:20260422T003503
CREATED:20260319T160352Z
LAST-MODIFIED:20260325T093450Z
UID:11970-1780392600-1780419600@3ar-na.fr
SUMMARY:Parcours cartographie : Journée à Mont-de-Marsan (40)
DESCRIPTION:📍Participez à la journée en présentiel à Mont-de-Marsan pour monter en compétence sur votre cartographie achats !\nEn 2026\, le réseau 3AR lance une nouvelle animation avec la création d’un parcours dédié à la cartographie des achats. Un parcours constitué d’une journée d’échanges en présentiel\, de webinaires et de groupes de travail de suivi. \n🌱 Ce parcours est ouvert aux adhérents 3AR et aux territoires engagés et/ou labellisés TETE (Territoire Engagé Transition Ecologique) \n🎯 Parmi les objectifs du parcours\n\nMieux appréhender les enjeux d’une cartographie des achats en prenant connaissance des tenants et aboutissants\,\nConnaître la méthodologie d’élaboration\, d’exploitation sous l’angle des achats responsables (bien sûr !) et d’actualisation d’une cartographie\,\nEchanger avec ses pairs sur des retours d’expériences de mise en pratique\,\nDisposer d’arguments pour informer et sensibiliser agent.es et élu.es au sein de sa structure\,\nRéaliser des points d’étapes/suivi collectifs sur la mise en place de la cartographie au sein de sa structure.\n\n🤝 Ce parcours permettra aux participant.es d’acquérir la méthodologie nécessaire pour bâtir une cartographie des achats de leur structure. \nInscrivez-vous dès maintenant via le formulaire ci-dessous ⬇️
URL:https://3ar-na.fr/evenement/parcours-cartographie-journee-a-mont-de-marsan-40-2/
LOCATION:Mont-de-Marsan
CATEGORIES:Rencontres techniques régionales
ATTACH;FMTTYPE=image/png:https://3ar-na.fr/wp-content/uploads/2026/03/vignette_site_parcours_carto-2.png
END:VEVENT
END:VCALENDAR