BEGIN:VCALENDAR
VERSION:2.0
PRODID:-//3AR - ECPv6.15.12.2//NONSGML v1.0//EN
CALSCALE:GREGORIAN
METHOD:PUBLISH
X-ORIGINAL-URL:https://3ar-na.fr
X-WR-CALDESC:Évènements pour 3AR
REFRESH-INTERVAL;VALUE=DURATION:PT1H
X-Robots-Tag:noindex
X-PUBLISHED-TTL:PT1H
BEGIN:VTIMEZONE
TZID:Europe/Paris
BEGIN:DAYLIGHT
TZOFFSETFROM:+0100
TZOFFSETTO:+0200
TZNAME:CEST
DTSTART:20250330T010000
END:DAYLIGHT
BEGIN:STANDARD
TZOFFSETFROM:+0200
TZOFFSETTO:+0100
TZNAME:CET
DTSTART:20251026T010000
END:STANDARD
BEGIN:DAYLIGHT
TZOFFSETFROM:+0100
TZOFFSETTO:+0200
TZNAME:CEST
DTSTART:20260329T010000
END:DAYLIGHT
BEGIN:STANDARD
TZOFFSETFROM:+0200
TZOFFSETTO:+0100
TZNAME:CET
DTSTART:20261025T010000
END:STANDARD
BEGIN:DAYLIGHT
TZOFFSETFROM:+0100
TZOFFSETTO:+0200
TZNAME:CEST
DTSTART:20270328T010000
END:DAYLIGHT
BEGIN:STANDARD
TZOFFSETFROM:+0200
TZOFFSETTO:+0100
TZNAME:CET
DTSTART:20271031T010000
END:STANDARD
END:VTIMEZONE
BEGIN:VEVENT
DTSTART;TZID=Europe/Paris:20260609T093000
DTEND;TZID=Europe/Paris:20260609T163000
DTSTAMP:20260421T132146
CREATED:20260401T074618Z
LAST-MODIFIED:20260408T150021Z
UID:12073-1780997400-1781022600@3ar-na.fr
SUMMARY:[3AR y sera ! ] Journée à Poitiers : Développer les achats responsables avec l'Economie Sociale et Solidaire
DESCRIPTION:MARDI 9 JUIN – POITIERS – Développer les achats responsables avec l’économie solidaire\n\n\n« Entreprises conventionnelles / Entreprises de l’ESS\, et si vous travailliez ensemble pour des marchés publics plus responsables ?  \nSuite à la réussite de la journée « Développer les achats responsables avec l’ESS » de 2025\, le consortium du PRASER (Parcours Régional des Achats Socialement et Écologiquement Responsables)\, composé de la CRESS Nouvelle-Aquitaine\, INAE\, 3AR et  UNEA\, organise deux événements dans le cadre de la Semaine des achats socialement et écologiquement responsables (du 08 au 12 juin). \nCes rendez-vous visent à créer des coopération entre acteurs économiques et à renforcer la place de l’ESS dans les  marchés publics. \n  \nDeux dates à retenir :  \n\nmardi 9 juin à Poitiers\,\njeudi 11 juin à Bordeaux.\n\n  \nLes deux journées proposeront une architecture commune\, adaptée aux réalités de chaque territoire. \nFace au renforcement des exigences sociales et environnementales dans la commande publique (SPASER\, clauses sociales et environnementales\, Loi AGEC…)\, de nombreuses entreprises recherchent aujourd’hui des partenaires capables de les aider à apporter des réponses répondant à ces nouveaux enjeux. \n  \nCes événements auront donc pour objectif de : \n\nmettre en relation entreprises classiques et structures de l’ESS ;\nsécuriser les pratiques de co-traitance et de sous-traitance ;\nfaire émerger des réponses conjointes à des marchés ;\noutiller les structures\, au regard des obligations 2026\, en matière d’achats durables publics.\n\n  \nUne journée structurée en deux temps :  \nLe format a été conçu pour articuler montée en compétences et mises en relation qualifiées. \n9h30 – 12h30 : inspirer et donner des clés de compréhension \n\nTemps d’éclairage\, pour mieux comprendre le cadre et les opportunités des marchés publics :\nmot d’accueil des collectivités engagées dans le PRASER (Département de la Gironde\, Grand Poitiers\, Bordeaux Métropole\, Ville de Bordeaux) ;\ntable ronde sur les obligations 2026 (Loi Agec\, clauses\, SPASER) ;\nprésentation sur les modalités de co-traitance et de sous-traitance ;\ntémoignages croisés d’acteurs de l’ESS et d’entreprises conventionnelles qui coopèrent déjà.\n\n14h – 16h30 : Networking entreprises ESS / entreprises conventionnelles \nL’après-midi sera consacrée à des temps de networking qualifiés entre entreprises de l’ESS et entreprises conventionnelles\, afin de faire émerger des coopérations. \nÀ qui s’adressent ces journées ? \nCes événements s’adressent : \n\naux entreprises répondant à des marchés publics ;\naux structures de l’économie sociale et solidaire ;\naux collectivités engagées dans une démarche d’achats responsables ;\naux partenaires économiques et réseaux d’accompagnement.\n\n  \nLIEN D’INSCRIPTION \n  \nLe programme détaillé vous sera communiqué prochainement.
URL:https://3ar-na.fr/evenement/journee-a-poitiers-developper-les-achats-responsables-avec-leconomie-sociale-et-solidaire/
LOCATION:24 Bd Pont Achard\, 86000 Poitiers- La Caserne
CATEGORIES:Evénements externes
ATTACH;FMTTYPE=image/png:https://3ar-na.fr/wp-content/uploads/2026/04/affiche_evenement_saser_2026-1-212x300-1.png
END:VEVENT
BEGIN:VEVENT
DTSTART;TZID=Europe/Paris:20260609T093000
DTEND;TZID=Europe/Paris:20260609T170000
DTSTAMP:20260421T132146
CREATED:20260319T160722Z
LAST-MODIFIED:20260325T093624Z
UID:11976-1780997400-1781024400@3ar-na.fr
SUMMARY:Parcours cartographie : Journée à Aixe-sur-Vienne (87)
DESCRIPTION:Participez à la journée en présentiel à Aixe-sur-Vienne pour monter en compétence sur votre cartographie achats !\nEn 2026\, le réseau 3AR lance une nouvelle animation avec la création d’un parcours dédié à la cartographie des achats. Un parcours constitué d’une journée d’échanges en présentiel\, de webinaires et de groupes de travail de suivi. \n🌱 Ce parcours est ouvert aux adhérents 3AR et aux territoires engagés et/ou labellisés TETE (Territoire Engagé Transition Ecologique) \n🎯 Parmi les objectifs du parcours\n\nMieux appréhender les enjeux d’une cartographie des achats en prenant connaissance des tenants et aboutissants\,\nConnaître la méthodologie d’élaboration\, d’exploitation sous l’angle des achats responsables (bien sûr !) et d’actualisation d’une cartographie\,\nEchanger avec ses pairs sur des retours d’expériences de mise en pratique\,\nDisposer d’arguments pour informer et sensibiliser agent.es et élu.es au sein de sa structure\,\nRéaliser des points d’étapes/suivi collectifs sur la mise en place de la cartographie au sein de sa structure.\n\n🤝 Ce parcours permettra aux participant.es d’acquérir la méthodologie nécessaire pour bâtir une cartographie des achats de leur structure. \nInscrivez-vous dès maintenant via le formulaire ci-dessous ⬇️
URL:https://3ar-na.fr/evenement/parcours-cartographie-journee-a-aixe-sur-vienne-87/
LOCATION:Aixe-sur-Vienne
CATEGORIES:Rencontres techniques régionales
ATTACH;FMTTYPE=image/png:https://3ar-na.fr/wp-content/uploads/2026/03/vignette_site_parcours_carto-2.png
END:VEVENT
END:VCALENDAR