BEGIN:VCALENDAR
VERSION:2.0
PRODID:-//3AR - ECPv6.15.12.2//NONSGML v1.0//EN
CALSCALE:GREGORIAN
METHOD:PUBLISH
X-ORIGINAL-URL:https://3ar-na.fr
X-WR-CALDESC:Évènements pour 3AR
REFRESH-INTERVAL;VALUE=DURATION:PT1H
X-Robots-Tag:noindex
X-PUBLISHED-TTL:PT1H
BEGIN:VTIMEZONE
TZID:Europe/Paris
BEGIN:DAYLIGHT
TZOFFSETFROM:+0100
TZOFFSETTO:+0200
TZNAME:CEST
DTSTART:20230326T010000
END:DAYLIGHT
BEGIN:STANDARD
TZOFFSETFROM:+0200
TZOFFSETTO:+0100
TZNAME:CET
DTSTART:20231029T010000
END:STANDARD
BEGIN:DAYLIGHT
TZOFFSETFROM:+0100
TZOFFSETTO:+0200
TZNAME:CEST
DTSTART:20240331T010000
END:DAYLIGHT
BEGIN:STANDARD
TZOFFSETFROM:+0200
TZOFFSETTO:+0100
TZNAME:CET
DTSTART:20241027T010000
END:STANDARD
BEGIN:DAYLIGHT
TZOFFSETFROM:+0100
TZOFFSETTO:+0200
TZNAME:CEST
DTSTART:20250330T010000
END:DAYLIGHT
BEGIN:STANDARD
TZOFFSETFROM:+0200
TZOFFSETTO:+0100
TZNAME:CET
DTSTART:20251026T010000
END:STANDARD
END:VTIMEZONE
BEGIN:VEVENT
DTSTART;TZID=Europe/Paris:20240306T110000
DTEND;TZID=Europe/Paris:20240306T120000
DTSTAMP:20260423T012052
CREATED:20240102T171525Z
LAST-MODIFIED:20240206T150549Z
UID:8570-1709722800-1709726400@3ar-na.fr
SUMMARY:Webinaires "prescriptions santé environnementale dans les marchés publics"
DESCRIPTION:Avec le soutien de l’ARS Nouvelle-Aquitaine\, et en partenariat technique avec l’agence SAFE-Li\, le réseau 3AR propose un cycle de webinaires au mois de mars autour des prescriptions « santé environnement » dans les marchés publics. \nLe 6 mars : « intégrer la santé environnementale dans vos politiques achats » \nAvec les témoignages de : \nNadine Rivet\, adjointe au Maire de Limoges\, en charge de la petite enfance\, et Présidente de 3AR \nAmandine Beigbeder\, Achats Responsables – Secrétariat Général à la Transition Énergétique et à la Planification Écologique\, Agglomération du Pays Basque \n  \nLe 13 mars : « point d’actu sur qualité de l’air intérieur : réglementation\, diagnostics\, bonnes pratiques » \nAvec les interventions de : \nAnne Estelle de Boisseson\, Directrice associée\, GREease \nAnne Lafourcade\, agence SAFELi \n  \nLe 20 mars : « intégrer la santé environnementale dans les achats de travaux / MOE » \nAutour du guide Recocrèches 2 et de la démarche ECRAINS® en Nouvelle-Aquitaine \nAvec les interventions de : \nCamille Appleton\, Cluster ODEYS \nAnne Lafourcade\, agence SAFELi \n  \nLe 27 mars : « intégrer la santé environnementale dans les achats de nettoyage / hygiène » \nAutour du guide Recocrèches 3 \nIntervenante : Anne Lafourcade\, agence SAFELi \n  \nMerci de compléter le formulaire d’inscription ci-dessous pour participer à l’un ou plusieurs des webinaires proposés !
URL:https://3ar-na.fr/evenement/webinaire-prescriptions-sante-environnementale-dans-les-marches-publics/
LOCATION:Webinaire
CATEGORIES:Webinaires
ATTACH;FMTTYPE=image/jpeg:https://3ar-na.fr/wp-content/uploads/2024/01/vignette_webinaires_APPESE.jpeg
END:VEVENT
BEGIN:VEVENT
DTSTART;VALUE=DATE:20240308
DTEND;VALUE=DATE:20240309
DTSTAMP:20260423T012052
CREATED:20240221T125658Z
LAST-MODIFIED:20240221T125658Z
UID:8761-1709856000-1709942399@3ar-na.fr
SUMMARY:Journée régionale de l'économie de la fonctionnalité et de la coopération
DESCRIPTION:La Journée Régionale de l’EFC\, c’est dans moins d’un mois et il reste encore des places !\n  \nMais au fait l’EFC\, c’est quoi ?\nÉtroitement lié à l’économie circulaire\, l’EFC est une manière innovante de piloter sa stratégie d’entreprise et de transformer son modèle économique pour être capable de tenir une performance globale (économique\, sociale et environnementale). \nVenez découvrir les témoignages inspirants d’entreprises qui s’engagent dans cette trajectoire innovante\, notamment : \n\nAima Autonomie\, qui transforme l’aide aux personnes en situation de handicap en se recentrant sur l’économie d’usage et la coopération\nUNIVEIRA\, dont le métier d’origine de conception et de fabrication d’outils est intégré aujourd’hui dans une offre bien plus large\nSUEZ\, qui expérimente une approche plus coopérative et territoriale de la prévention et de la gestion des déchets\nMARCIREAU et l’ADAPEI 79\, qui unissent leurs forces et transforment leur manière de travailler au service du réemploi\nVÉTALIS\, qui met la performance de ses compléments alimentaires au service de la santé animale et humaine\n\nVous souhaitez participer à une expérience ludique et collective autour de l’économie de demain ? \n\nVenez participer à une Fresque de la Transition Economique – IE-EFC\, organisée en continu durant l’après-midi.\n\n  \nVOTRE CONTACT :\nADI Nouvelle-Aquitaine : s.grall@adi-na.fr – 06 26 06 42 60
URL:https://3ar-na.fr/evenement/journee-regionale-de-leconomie-de-la-fonctionnalite-et-de-la-cooperation/
LOCATION:CAP METIERS – PESSAC
CATEGORIES:Evénements externes
END:VEVENT
BEGIN:VEVENT
DTSTART;TZID=Europe/Paris:20240308T103000
DTEND;TZID=Europe/Paris:20240308T120000
DTSTAMP:20260423T012052
CREATED:20240102T175825Z
LAST-MODIFIED:20240122T151000Z
UID:8600-1709893800-1709899200@3ar-na.fr
SUMMARY:Groupe de travail adhérents "prestations intellectuelles" #2
DESCRIPTION:Un cycle de webinaires sous format « mini formation » pour faire le tour des possibilités d’intégration des enjeux RSE aux achats publics de prestations intellectuelles. \nAdhérents\, pensez à vous inscrire pour recevoir les informations ! \n 
URL:https://3ar-na.fr/evenement/groupe-de-travail-adherents-prestations-intellectuelles-2/
CATEGORIES:Formations,Webinaires
ATTACH;FMTTYPE=image/png:https://3ar-na.fr/wp-content/uploads/2023/10/picto_adherez_rencontre-e1704217947359.png
END:VEVENT
BEGIN:VEVENT
DTSTART;TZID=Europe/Paris:20240312T100000
DTEND;TZID=Europe/Paris:20240312T120000
DTSTAMP:20260423T012052
CREATED:20231122T130720Z
LAST-MODIFIED:20240308T081632Z
UID:8519-1710237600-1710244800@3ar-na.fr
SUMMARY:Webinaire adhérents "Achats publics responsables de végétaux & paysages"
DESCRIPTION:La végétalisation des espaces publics – mise en place d’îlots de fraîcheur et de biodiversité\, désimperméabilisation des cours d’écoles\, végétalisation des espaces et équipements publics – \, indispensable levier de résilience des centres urbains face aux effets du changement climatique\, est aujourd’hui au cœur des enjeux d’aménagement. En même temps\, cette mutation s’inscrit dans un double contexte de questionnement sur les végétaux effectivement adaptés au changement climatique et de relative pénurie de plantes de cycle long en Europe. De nombreux adhérents souhaitent monter en compétences sur l’intégration de la biodiversité dans leurs marchés publics\, et la catégorie d’achats « espaces verts » est évidemment concernée. \nC’est pourquoi nous vous proposons un webinaire adhérents\, en partenariat avec les fédérations régionales des professionnels du végétal (pépiniériste\, entreprise du paysage\, paysagiste concepteur) et Bordeaux Métropole\, pour mieux appréhender le fonctionnement du monde du paysage et les leviers d’actions qui s’offrent aux acheteurs publics. \nà l’ordre du jour : \n– verdissement de l’espace public : éléments de contexte \n– témoignages de professionnels sur l’ensemble de la chaîne de valeur\, « de la graine à la plante » (MOA\, MOE\, prestataires\, fournitures) \n– échanges avec les adhérents \nConsultez le programme détaillé \n  \nInscriptions ci-dessous !
URL:https://3ar-na.fr/evenement/webinaire-adherents-vegetal-local/
LOCATION:Webinaire
CATEGORIES:Webinaires
ATTACH;FMTTYPE=image/jpeg:https://3ar-na.fr/wp-content/uploads/2023/11/image_vegetal.jpg
END:VEVENT
BEGIN:VEVENT
DTSTART;TZID=Europe/Paris:20240313T110000
DTEND;TZID=Europe/Paris:20240313T120000
DTSTAMP:20260423T012052
CREATED:20240102T172230Z
LAST-MODIFIED:20240206T150629Z
UID:8581-1710327600-1710331200@3ar-na.fr
SUMMARY:Webinaires "prescriptions santé environnementale dans les marchés publics" #2
DESCRIPTION:Avec le soutien de l’ARS Nouvelle-Aquitaine\, et en partenariat technique avec l’agence SAFE-Li\, le réseau 3AR propose un cycle de webinaires au mois de mars autour des prescriptions « santé environnement » dans les marchés publics. \nLe 6 mars : « intégrer la santé environnementale dans vos politiques achats » \nAvec les témoignages de : \nNadine Rivet\, adjointe au Maire de Limoges\, en charge de la petite enfance\, et Présidente de 3AR \nAmandine Beigbeder\, Achats Responsables – Secrétariat Général à la Transition Énergétique et à la Planification Écologique\, Agglomération du Pays Basque \n  \nLe 13 mars : « point d’actu sur qualité de l’air intérieur : réglementation\, diagnostics\, bonnes pratiques » \nAvec les interventions de : \nAnne Estelle de Boisseson\, Directrice associée\, GREease \nAnne Lafourcade\, agence SAFELi \n  \nLe 20 mars : « intégrer la santé environnementale dans les achats de travaux / MOE » \nAutour du guide Recocrèches 2 et de la démarche ECRAINS® en Nouvelle-Aquitaine \nAvec les interventions de : \nCamille Appleton\, Cluster ODEYS \nAnne Lafourcade\, agence SAFELi \n  \nLe 27 mars : « intégrer la santé environnementale dans les achats de nettoyage / hygiène » \nAutour du guide Recocrèches 3 \nIntervenante : Anne Lafourcade\, agence SAFELi \n  \nMerci de compléter le formulaire d’inscription ci-dessous pour participer à l’un ou plusieurs des webinaires proposés !
URL:https://3ar-na.fr/evenement/webinaires-prescriptions-sante-environnementale-dans-les-marches-publics-2/
LOCATION:Webinaire
CATEGORIES:Webinaires
ATTACH;FMTTYPE=image/jpeg:https://3ar-na.fr/wp-content/uploads/2024/01/vignette_webinaires_APPESE.jpeg
END:VEVENT
BEGIN:VEVENT
DTSTART;TZID=Europe/Paris:20240314T100000
DTEND;TZID=Europe/Paris:20240314T170000
DTSTAMP:20260423T012052
CREATED:20240215T134642Z
LAST-MODIFIED:20240215T140945Z
UID:8706-1710410400-1710435600@3ar-na.fr
SUMMARY:Journée régionale des clauses sociales de Nouvelle-Aquitaine
DESCRIPTION:La coordination régionale Nouvelle-Aquitaine organise la première journée de la clause sociale en Nouvelle-Aquitaine. \nà cette occasion\, seront remis les 1ers Trophées régionaux de la clause sociale. \nConsulter le programme >> \n  \nRéservation obligatoire sur : coordoclausesna@yahoo.com \n 
URL:https://3ar-na.fr/evenement/journee-regionale-des-clauses-sociales-de-nouvelle-aquitaine/
CATEGORIES:Rencontres techniques régionales
ATTACH;FMTTYPE=image/png:https://3ar-na.fr/wp-content/uploads/2024/02/aliena.png
END:VEVENT
BEGIN:VEVENT
DTSTART;VALUE=DATE:20240318
DTEND;VALUE=DATE:20240319
DTSTAMP:20260423T012052
CREATED:20231214T170743Z
LAST-MODIFIED:20231214T170743Z
UID:8546-1710720000-1710806399@3ar-na.fr
SUMMARY:Formation "santé environnement et achats publics" - le 18 mars à Bordeaux
DESCRIPTION:ACHATS PUBLICS RESPONSABLES\, PETITE ENFANCE ET SANTÉ ENVIRONNEMENTALE\nAvec le soutien de l’Agence Régionale de Santé\, le 3AR propose une formation à destination des services acheteurs et prescripteurs des structures accueillant de jeunes enfants\, désireux de monter en compétences sur la prise en compte des enjeux de santé environnementale dans leurs achats publics. \nPlusieurs sessions sont programmées sur les territoires. \nCette session sera accueillie par Bordeaux Métropole\, membre fondateur de 3AR. \nIntervenantes : Anne LAFOURCADE\, agence Safeli et Anne BENTZ\, association 3AR \nObjectif général de la formation :\nÀ l’issue de la formation\, les stagiaires seront en mesure de prendre en compte les enjeux sanitaires et environnementaux dès la réalisation de leurs achats\, conformément au cadre juridique proposé par le Code de la commande publique. \nObjectifs pédagogiques – Permettre aux stagiaires de :\n• Connaître les principaux éléments scientifiques et réglementaires relatifs aux enjeux de « santé environnementale » appliquée à la petite enfance\,\n• S’approprier les leviers juridiques proposés par le cadre de la commande publique\,\n• S’appuyer sur des retours d’expériences et exemples opérationnels transposables dans leur quotidien. \nPublic visé :\nElu(e)s\, prescripteurs des services techniques (santé\, petite enfance\, éducation\, bâtiments/patrimoine…)\, gestionnaires d’établissements\, responsables d’opérations\, agents impliqués dans les procédures d’achats\, équipes juridiques\, agents en charge des démarches RSE/Développement Durable.\nFormation réservée aux structures soumises aux procédures de marchés publics basées en Nouvelle-Aquitaine. \nHoraires : \nAccueil à 9h \nDébut de la formation à 9h30 \nFin de la journée à 17h \n(possibilité de déjeuner ensemble le midi) \nFormation gratuite\, réservée aux structures soumises aux procédures de marchés publics basées en Nouvelle-Aquitaine  \nLes frais de déplacement et de restauration ne sont pas pris en charge. \nConsulter le programme \nMERCI DE VOUS INSCRIRE EN COMPLÉTANT LE FORMULAIRE CI-DESSOUS
URL:https://3ar-na.fr/evenement/formation-sante-environnement-et-achats-publics-le-18-mars-a-bordeaux/
LOCATION:Bordeaux – Hôtel Bordeaux métropole\, Esplanade Charles de Gaulle\, Bordeaux\, 33076
CATEGORIES:Formations
ATTACH;FMTTYPE=image/png:https://3ar-na.fr/wp-content/uploads/2023/11/Screenshot-2023-11-21-at-09-08-14-Formation-Achats-et-Sante-Enviro-2024.pdf-1.png
ORGANIZER;CN="3AR":MAILTO:animation@3ar-na.fr
END:VEVENT
BEGIN:VEVENT
DTSTART;TZID=Europe/Paris:20240320T110000
DTEND;TZID=Europe/Paris:20240320T120000
DTSTAMP:20260423T012052
CREATED:20240102T172333Z
LAST-MODIFIED:20240206T150615Z
UID:8583-1710932400-1710936000@3ar-na.fr
SUMMARY:Webinaires "prescriptions santé environnementale dans les marchés publics" #3
DESCRIPTION:Avec le soutien de l’ARS Nouvelle-Aquitaine\, et en partenariat technique avec l’agence SAFE-Li\, le réseau 3AR propose un cycle de webinaires au mois de mars autour des prescriptions « santé environnement » dans les marchés publics. \nLe 6 mars : « intégrer la santé environnementale dans vos politiques achats » \nAvec les témoignages de : \nNadine Rivet\, adjointe au Maire de Limoges\, en charge de la petite enfance\, et Présidente de 3AR \nAmandine Beigbeder\, Achats Responsables – Secrétariat Général à la Transition Énergétique et à la Planification Écologique\, Agglomération du Pays Basque \n  \nLe 13 mars : « point d’actu sur qualité de l’air intérieur : réglementation\, diagnostics\, bonnes pratiques » \nAvec les interventions de : \nAnne Estelle de Boisseson\, Directrice associée\, GREease \nAnne Lafourcade\, agence SAFELi \n  \nLe 20 mars : « intégrer la santé environnementale dans les achats de travaux / MOE » \nAutour du guide Recocrèches 2 et de la démarche ECRAINS® en Nouvelle-Aquitaine \nAvec les interventions de : \nCamille Appleton\, Cluster ODEYS \nAnne Lafourcade\, agence SAFELi \n  \nLe 27 mars : « intégrer la santé environnementale dans les achats de nettoyage / hygiène » \nAutour du guide Recocrèches 3 \nIntervenante : Anne Lafourcade\, agence SAFELi \n  \nMerci de compléter le formulaire d’inscription ci-dessous pour participer à l’un ou plusieurs des webinaires proposés !
URL:https://3ar-na.fr/evenement/webinaires-prescriptions-sante-environnementale-dans-les-marches-publics-3/
LOCATION:Webinaire
CATEGORIES:Webinaires
ATTACH;FMTTYPE=image/jpeg:https://3ar-na.fr/wp-content/uploads/2024/01/vignette_webinaires_APPESE.jpeg
END:VEVENT
BEGIN:VEVENT
DTSTART;TZID=Europe/Paris:20240326T090000
DTEND;TZID=Europe/Paris:20240326T123000
DTSTAMP:20260423T012052
CREATED:20231215T163311Z
LAST-MODIFIED:20240311T154937Z
UID:8553-1711443600-1711456200@3ar-na.fr
SUMMARY:Matinale technique - Limoges
DESCRIPTION:La commande publique face aux évolutions réglementaires… où en est-on ? \nComment réaliser des achats publics répondant aux enjeux sociétaux tout en restant performants économiquement ? \nCe que vous retirerez de cette matinée: \n\nUn point d’actualité et d’informations sur la commande publique durable / responsable\nDes retours d’expériences d’acheteurs publics engagés sur votre territoire\nUn partage de documents de consultations et d’outils déjà éprouvés\nUne rencontre avec les réseaux et acteurs facilitateurs présents sur votre territoire\n\nPartage d’expérience avec des acheteurs publics du territoire engagés\n \nAvec les témoignages de la Ville de Limoges\, l’Agence de Services et de Paiement (ASP)\, Limoges Métropole\, nos réseaux régionaux partenaires \nConsulter le programme \nÉvénement gratuit et ouvert à tous\, dans la limite des places disponibles \n  \nSur inscription – Merci de bien vouloir remplir le formulaire ci-dessous 
URL:https://3ar-na.fr/evenement/matinale-technique-limoges/
LOCATION:Limoges
CATEGORIES:Matinales
ATTACH;FMTTYPE=image/jpeg:https://3ar-na.fr/wp-content/uploads/2022/04/matinale-technique-departementale_crop.jpg
ORGANIZER;CN="3AR":MAILTO:animation@3ar-na.fr
END:VEVENT
BEGIN:VEVENT
DTSTART;TZID=Europe/Paris:20240327T110000
DTEND;TZID=Europe/Paris:20240327T120000
DTSTAMP:20260423T012052
CREATED:20240102T172412Z
LAST-MODIFIED:20240206T150604Z
UID:8585-1711537200-1711540800@3ar-na.fr
SUMMARY:Webinaires "prescriptions santé environnementale dans les marchés publics" #4
DESCRIPTION:Avec le soutien de l’ARS Nouvelle-Aquitaine\, et en partenariat technique avec l’agence SAFE-Li\, le réseau 3AR propose un cycle de webinaires au mois de mars autour des prescriptions « santé environnement » dans les marchés publics. \nLe 6 mars : « intégrer la santé environnementale dans vos politiques achats » \nAvec les témoignages de : \nNadine Rivet\, adjointe au Maire de Limoges\, en charge de la petite enfance\, et Présidente de 3AR \nAmandine Beigbeder\, Achats Responsables – Secrétariat Général à la Transition Énergétique et à la Planification Écologique\, Agglomération du Pays Basque \n  \nLe 13 mars : « point d’actu sur qualité de l’air intérieur : réglementation\, diagnostics\, bonnes pratiques » \nAvec les interventions de : \nAnne Estelle de Boisseson\, Directrice associée\, GREease \nAnne Lafourcade\, agence SAFELi \n  \nLe 20 mars : « intégrer la santé environnementale dans les achats de travaux / MOE » \nAutour du guide Recocrèches 2 et de la démarche ECRAINS® en Nouvelle-Aquitaine \nAvec les interventions de : \nCamille Appleton\, Cluster ODEYS \nAnne Lafourcade\, agence SAFELi \n  \nLe 27 mars : « intégrer la santé environnementale dans les achats de nettoyage / hygiène » \nAutour du guide Recocrèches 3 \nIntervenante : Anne Lafourcade\, agence SAFELi \n  \nMerci de compléter le formulaire d’inscription ci-dessous pour participer à l’un ou plusieurs des webinaires proposés !
URL:https://3ar-na.fr/evenement/webinaires-prescriptions-sante-environnementale-dans-les-marches-publics-3-2/
LOCATION:Webinaire
CATEGORIES:Webinaires
ATTACH;FMTTYPE=image/jpeg:https://3ar-na.fr/wp-content/uploads/2024/01/vignette_webinaires_APPESE.jpeg
END:VEVENT
END:VCALENDAR