BEGIN:VCALENDAR
VERSION:2.0
PRODID:-//3AR - ECPv6.15.12.2//NONSGML v1.0//EN
CALSCALE:GREGORIAN
METHOD:PUBLISH
X-ORIGINAL-URL:https://3ar-na.fr
X-WR-CALDESC:Évènements pour 3AR
REFRESH-INTERVAL;VALUE=DURATION:PT1H
X-Robots-Tag:noindex
X-PUBLISHED-TTL:PT1H
BEGIN:VTIMEZONE
TZID:Europe/Paris
BEGIN:DAYLIGHT
TZOFFSETFROM:+0100
TZOFFSETTO:+0200
TZNAME:CEST
DTSTART:20230326T010000
END:DAYLIGHT
BEGIN:STANDARD
TZOFFSETFROM:+0200
TZOFFSETTO:+0100
TZNAME:CET
DTSTART:20231029T010000
END:STANDARD
BEGIN:DAYLIGHT
TZOFFSETFROM:+0100
TZOFFSETTO:+0200
TZNAME:CEST
DTSTART:20240331T010000
END:DAYLIGHT
BEGIN:STANDARD
TZOFFSETFROM:+0200
TZOFFSETTO:+0100
TZNAME:CET
DTSTART:20241027T010000
END:STANDARD
BEGIN:DAYLIGHT
TZOFFSETFROM:+0100
TZOFFSETTO:+0200
TZNAME:CEST
DTSTART:20250330T010000
END:DAYLIGHT
BEGIN:STANDARD
TZOFFSETFROM:+0200
TZOFFSETTO:+0100
TZNAME:CET
DTSTART:20251026T010000
END:STANDARD
END:VTIMEZONE
BEGIN:VEVENT
DTSTART;VALUE=DATE:20240604
DTEND;VALUE=DATE:20240605
DTSTAMP:20260422T204005
CREATED:20240515T143302Z
LAST-MODIFIED:20240515T143402Z
UID:9025-1717459200-1717545599@3ar-na.fr
SUMMARY:Achats publics innovants - Rencontre des Décideurs Greentech
DESCRIPTION:Le Ministère de la Transition Écologique\, Cohésion des Territoires organise les prochaines Rencontres des Décideurs Greentech\, un format d’événement en région co-porté avec le territoire d’accueil\, afin de favoriser les rencontres\, dans le cadre des enjeux des transitions écologiques\, entre acteurs publics et privés. \nLa 6ème édition\, sur le thème « Adaptation : Les territoires côtiers innovent ! »\, se tiendra du 3 au 5 juin 2024\, au Centre de congrès de Biarritz\, Le Bellevue. \nCoorganisée avec l’association Waves of Change et avec la ville de Biarritz comme partenaire\, elle rassemblera des startups françaises et internationales\, des entreprises\, des ONG\, des investisseurs\, des universitaires et des décideurs publics.\nCet évènement abordera l’adaptation et la résilience des territoires côtiers\, territoires touchés par les impacts du changement climatique et des pratiques humaines\, notamment en mettant en avant des bonnes pratiques d’aménagement et des entreprises innovantes et durables.\nAu programme de l’événement : \n\nInterventions inspirantes sur l’adaptation côtière\nTables rondes pour mettre en avant les retours d’expériences\nAteliers thématiques à destination d’acteurs publics et privés\nPitchs d’entreprises innovantes et durables\nChallenge Tideline (Présentation de solutions en micro-consortium\, selon les besoins de collectivités pré-inscrites)\nRendez-vous d’affaires.\n\nAvec près de 200 participants attendus en présentiel\, il se veut être un véritable temps fort au service de tous les territoires côtiers en France. Cette dernière prendra également une dimension internationale\, avec la participation notamment d’ONG internationales et de représentants de différents territoires côtiers. Enfin\, cette rencontre\, qui s’inscrit dans la stratégie nationale de gestion intégrée du trait de côte (SNGITC) et plus largement dans le Plan National d’Adaptation au Changement Climatique (PNACC)\, a été conçue dans l’objectif de préparer la troisième Conférence des Nations Unies sur l’Océan qui se tiendra à Nice en juin 2025 grâce notamment à des ateliers de travail et de co-développement. Nous aimerions donc vous convier\, ainsi que votre écosystème\, lors de ce temps fort. \n> pour retrouver le programme et le lien d’inscription à l’événement : https://greentechinnovation.fr/2024/04/11/forum-waves-of-change-x-rencontre-des-decideurs-greentech/\nNous vous invitons également à transmettre cette invitation aux membres de votre réseau qui seraient intéressés par les thématiques qui seront abordées. \nLe réseau 3AR coanimera une séquence « Achats publics d’Innovation » le mardi 4 juin\, de 11h15 à 12h10\nL’objectif étant de mettre en avant les achats publics d’innovation\, en se concentrant sur quelques procédures comme les fameux -100 000 euros HT\, devant un public de collectivités territoriales et d’acteurs privés.
URL:https://3ar-na.fr/evenement/achats-publics-innovants-rencontre-des-decideurs-greentech/
LOCATION:Biarritz
CATEGORIES:Evénements externes
ATTACH;FMTTYPE=image/png:https://3ar-na.fr/wp-content/uploads/2024/05/Vimeet-Waves-of-Change-forum-x-Ecolab-Image-affichee-lors-du-parcours-dinscription-1024x1024-1.png
END:VEVENT
BEGIN:VEVENT
DTSTART;TZID=Europe/Paris:20240610T110000
DTEND;TZID=Europe/Paris:20240610T123000
DTSTAMP:20260422T204005
CREATED:20240416T074026Z
LAST-MODIFIED:20240426T081634Z
UID:8959-1718017200-1718022600@3ar-na.fr
SUMMARY:Webinaire adhérents "décryptage AGEC"
DESCRIPTION:Les réseaux 3AR et RESECO proposent à leurs adhérents un temps de décryptage des nouveaux textes d’application de la loi AGEC venant impacter les acheteurs publics. \nAvec la participation de : \n\nMarline Weber\, Chargée de mission politique achats durables – Commissariat Général au Développement Durable\nChristophe Amoretti-Hannequin\, Conseiller finance responsable et achats – France Urbaine
URL:https://3ar-na.fr/evenement/webinaire-adherents-decryptage-agec/
LOCATION:Webinaire
CATEGORIES:Webinaires
ATTACH;FMTTYPE=image/jpeg:https://3ar-na.fr/wp-content/uploads/2024/03/Logo-loi-AGEC.jpg
END:VEVENT
BEGIN:VEVENT
DTSTART;VALUE=DATE:20240612
DTEND;VALUE=DATE:20240613
DTSTAMP:20260422T204005
CREATED:20240405T134552Z
LAST-MODIFIED:20240405T135648Z
UID:8899-1718150400-1718236799@3ar-na.fr
SUMMARY:Formation adhérents - "Piloter et animer un SPASER"
DESCRIPTION:Public visé :  \nChefs de projet / chargés de mission SPASER\, Responsables des achats / de la Commande publique\, toute personne en charge du pilotage et de l’animation d’un SPASER \nHoraires : \n09h00-12h30 / 14h-17h30\n\nFormation gratuite\, réservée aux adhérents du réseau 3AR (limité à 2 agents par structure et par session) \nLes frais de déplacement et de restauration ne sont pas pris en charge. \n  \nAu programme : \n\n Pilotage opérationnel du SPASER\n\nLes différents volets du pilotage SPASER \nCinq actes clefs du pilotage \nVie du SPASER sur une année \n\n Evaluation du SPASER et data management\n\nMesure de l’achat responsable et Transformation numérique de la commande publique (TNCP) \nSPASER : les indicateurs réglementaires et non réglementaires \nOrganiser la collecte des données SPASER : une démarche projet \nRetour d’expériences : outils de suivi des indicateurs \n\n Faire vivre une culture SPASER\n\n3.1 Impulser la transversalité et conduire le changement  \nTravailler en transversalité : le SPASER en cohérence et en soutien aux politiques publiques menées \nLa conduite du changement en quelques mots \n3.2 Acculturer aux achats responsables  : boite à outils et bonnes pratiques \nLes agents \nLes partenaires externes \nLes élus \n3.3 Communiquer  \nMise en situation individuelle
URL:https://3ar-na.fr/evenement/formation-adherents-piloter-et-animer-un-spaser/
LOCATION:Bayonne
CATEGORIES:Formations
ATTACH;FMTTYPE=image/png:https://3ar-na.fr/wp-content/uploads/2024/02/logo_SPASER_3AR.png
END:VEVENT
BEGIN:VEVENT
DTSTART;VALUE=DATE:20240627
DTEND;VALUE=DATE:20240628
DTSTAMP:20260422T204005
CREATED:20240515T143919Z
LAST-MODIFIED:20240515T144307Z
UID:9030-1719446400-1719532799@3ar-na.fr
SUMMARY:Colloque BEE
DESCRIPTION:Commande publique et responsabilité ? Prenez part aux réflexions européennes sur les achats publics engagés au profit des territoires jeudi 27 juin 2024 lors de la deuxième édition du colloque Bordeaux Echanges Européens : une journée d’échanges privilégiés\, en présentiel et à distance\, entre les acteurs européens de l’achat public territorial. \nUne journée organisée par nos adhérents Ville de Bordeaux\, Bordeaux Métropole et UGAP !
URL:https://3ar-na.fr/evenement/colloque-bee/
LOCATION:Bordeaux
CATEGORIES:Evénements externes
ATTACH;FMTTYPE=image/png:https://3ar-na.fr/wp-content/uploads/2024/05/bee.png
END:VEVENT
END:VCALENDAR