BEGIN:VCALENDAR
VERSION:2.0
PRODID:-//3AR - ECPv6.15.12.2//NONSGML v1.0//EN
CALSCALE:GREGORIAN
METHOD:PUBLISH
X-WR-CALNAME:3AR
X-ORIGINAL-URL:https://3ar-na.fr
X-WR-CALDESC:Évènements pour 3AR
REFRESH-INTERVAL;VALUE=DURATION:PT1H
X-Robots-Tag:noindex
X-PUBLISHED-TTL:PT1H
BEGIN:VTIMEZONE
TZID:Europe/Paris
BEGIN:DAYLIGHT
TZOFFSETFROM:+0100
TZOFFSETTO:+0200
TZNAME:CEST
DTSTART:20230326T010000
END:DAYLIGHT
BEGIN:STANDARD
TZOFFSETFROM:+0200
TZOFFSETTO:+0100
TZNAME:CET
DTSTART:20231029T010000
END:STANDARD
BEGIN:DAYLIGHT
TZOFFSETFROM:+0100
TZOFFSETTO:+0200
TZNAME:CEST
DTSTART:20240331T010000
END:DAYLIGHT
BEGIN:STANDARD
TZOFFSETFROM:+0200
TZOFFSETTO:+0100
TZNAME:CET
DTSTART:20241027T010000
END:STANDARD
BEGIN:DAYLIGHT
TZOFFSETFROM:+0100
TZOFFSETTO:+0200
TZNAME:CEST
DTSTART:20250330T010000
END:DAYLIGHT
BEGIN:STANDARD
TZOFFSETFROM:+0200
TZOFFSETTO:+0100
TZNAME:CET
DTSTART:20251026T010000
END:STANDARD
END:VTIMEZONE
BEGIN:VEVENT
DTSTART;TZID=Europe/Paris:20241004T093000
DTEND;TZID=Europe/Paris:20241004T123000
DTSTAMP:20260422T143500
CREATED:20240909T150019Z
LAST-MODIFIED:20240909T150019Z
UID:9262-1728034200-1728045000@3ar-na.fr
SUMMARY:Rencontre "Économie circulaire et réemploi solidaire : Comment acheter responsable pour une collectivité ?"
DESCRIPTION:L’Association des Maires et Présidents de Communautés des Pyrénées-Atlantiques (ADM64) organise une rencontre dédiée à l’économie circulaire et au réemploi solidaire\, à destination des élus du territoire. \nCette rencontre se tiendra au Hangar d’Osserain-Rivareyte (64) de l’association AIMA\, structure du réemploi solidaire depuis plus de 20 ans. \nLe réseau 3AR y présentera le contexte réglementaire en matière d’achats responsables\, en particulier pour le réemploi. \nAu programme : \n\n9h30 : Accueil café et allocutions d’ouverture\n9h45 : Interventions\n\n3AR / comment acheter « responsable » en tant que collectivité\nAIMA / présentation de l’écosystème\nRetours d’expériences de communes du territoire\nTemps d’échanges\n\n\n11h : Visite de la recyclerie\n12h15 : Buffet déjeunatoire\n\n  \nInscription obligatoire (au plus tard le 2 octobre)\, plus d’informations auprès de l’ADM64.
URL:https://3ar-na.fr/evenement/rencontre-economie-circulaire-et-reemploi-solidaire-comment-acheter-responsable-pour-une-collectivite/
LOCATION:Hangar AIMA\, Osserain-Rivareyte\, Osserain-Rivareyte\, 64390\, France
ATTACH;FMTTYPE=image/webp:https://3ar-na.fr/wp-content/uploads/2024/09/th.webp
END:VEVENT
BEGIN:VEVENT
DTSTART;VALUE=DATE:20241007
DTEND;VALUE=DATE:20241009
DTSTAMP:20260422T143500
CREATED:20240417T140244Z
LAST-MODIFIED:20241007T072056Z
UID:8975-1728259200-1728431999@3ar-na.fr
SUMMARY:[COMPLET] - Formation initiale "La commande publique durable" : les 7 et 8 octobre 2024 à Poitiers
DESCRIPTION:[SESSION COMPLÈTE]\nACHATS PUBLICS RESPONSABLES : Des achats au service d’une performance globale !\n3AR\, en partenariat avec l’ADEME Nouvelle-Aquitaine et le Réseau RESECO\, propose une formation initiale aux achats publics responsables les lundi 7 et mardi 8 octobre 2024 à Poitiers\n \nObjectif général de la formation :\nÀ l’issue de la formation\, les stagiaires seront en mesure de promouvoir et accompagner la prise en compte de la responsabilité sociétale dans leurs achats. \nObjectifs pédagogiques – Permettre aux stagiaires :\n– de connaître le champ d’application de la commande publique\, son évolution au cours des dernières années et son actualité\n– de savoir expliquer ce qu’est un achat responsable et pourvoir argumenter sur le bien-fondé de la démarche\n– d’identifier toutes les étapes du cycle de l’achat et les opportunités associées pour réaliser un achat responsable\n– d’être en mesure d’organiser et de hiérarchiser son action en matière d’achats responsables\n– de connaître les réseaux achats publics responsables\, leurs travaux et être en mesure d’y participer \nPublic visé :\nAcheteurs publics (services marchés/commande publique\, agents en charge de la fonction « achats »)\, agents/équipes de Direction impliqués dans les démarches de Développement Durable/RSE\, mais aussi élu(e)s des structures soumises à la réglementation en matière de marchés publics. \nHoraires : \n09h – 17h00\n\nFormation gratuite\, réservée aux adhérents du réseau 3AR (limité à 2 agents par structure et par session) \nLes frais de déplacement et de restauration ne sont pas pris en charge. \nConsulter le programme \nCette session est complète\, merci de nous faire signe de votre intérêt par mail animation[a]3ar-na.fr \n 
URL:https://3ar-na.fr/evenement/formation-initiale-la-commande-publique-durable-les-7-et-8-octobre-2024-a-poitiers/
LOCATION:Poitiers
CATEGORIES:Formations
ATTACH;FMTTYPE=image/jpeg:https://3ar-na.fr/wp-content/uploads/2021/10/Arrière-plan-1.jpg
ORGANIZER;CN="3AR":MAILTO:animation@3ar-na.fr
END:VEVENT
BEGIN:VEVENT
DTSTART;TZID=Europe/Paris:20241016T083000
DTEND;TZID=Europe/Paris:20241016T160000
DTSTAMP:20260422T143500
CREATED:20240625T160951Z
LAST-MODIFIED:20240906T092551Z
UID:9173-1729067400-1729094400@3ar-na.fr
SUMMARY:Rencontres de la restauration collective bio\, locale et de qualité
DESCRIPTION:Les Rencontres de la restauration collective bio\, locale et de qualité reviennent pour une 9e édition qui se tiendra le 16 octobre 2024 à l’Hôtel de la Metropole de Bordeaux. \nDestinées aux décideurs et aux professionnels de la restauration collective\, des élus aux équipes de production\, en passant par les gestionnaires\, ces rencontres ont pour objectifs de faire découvrir l’offre bio et/ou locale présente en Nouvelle-Aquitaine\, mais aussi de développer\, d’organiser\, de faciliter les échanges et de structurer les approvisionnements bio et locaux de proximité dans les services de restauration (établissements scolaires\, de santé\, administration\, entreprises\, privés…). \nAu programme :\n\nSalon fournisseurs et des partenaires\nConférence et témoignages\nAteliers technique et culinaires\n\n  \nEn savoir +
URL:https://3ar-na.fr/evenement/rencontres-de-la-restauration-collective-bio-locale-et-de-qualite/
LOCATION:Hôtel de Bordeaux Métropole\, Bordeaux\, France
ATTACH;FMTTYPE=image/jpeg:https://3ar-na.fr/wp-content/uploads/2024/06/450x250_RP2024.jpg
END:VEVENT
END:VCALENDAR