BEGIN:VCALENDAR
VERSION:2.0
PRODID:-//3AR - ECPv6.15.12.2//NONSGML v1.0//EN
CALSCALE:GREGORIAN
METHOD:PUBLISH
X-ORIGINAL-URL:https://3ar-na.fr
X-WR-CALDESC:Évènements pour 3AR
REFRESH-INTERVAL;VALUE=DURATION:PT1H
X-Robots-Tag:noindex
X-PUBLISHED-TTL:PT1H
BEGIN:VTIMEZONE
TZID:Europe/Paris
BEGIN:DAYLIGHT
TZOFFSETFROM:+0100
TZOFFSETTO:+0200
TZNAME:CEST
DTSTART:20230326T010000
END:DAYLIGHT
BEGIN:STANDARD
TZOFFSETFROM:+0200
TZOFFSETTO:+0100
TZNAME:CET
DTSTART:20231029T010000
END:STANDARD
BEGIN:DAYLIGHT
TZOFFSETFROM:+0100
TZOFFSETTO:+0200
TZNAME:CEST
DTSTART:20240331T010000
END:DAYLIGHT
BEGIN:STANDARD
TZOFFSETFROM:+0200
TZOFFSETTO:+0100
TZNAME:CET
DTSTART:20241027T010000
END:STANDARD
BEGIN:DAYLIGHT
TZOFFSETFROM:+0100
TZOFFSETTO:+0200
TZNAME:CEST
DTSTART:20250330T010000
END:DAYLIGHT
BEGIN:STANDARD
TZOFFSETFROM:+0200
TZOFFSETTO:+0100
TZNAME:CET
DTSTART:20251026T010000
END:STANDARD
END:VTIMEZONE
BEGIN:VEVENT
DTSTART;VALUE=DATE:20241107
DTEND;VALUE=DATE:20241108
DTSTAMP:20260422T131147
CREATED:20240917T080626Z
LAST-MODIFIED:20240925T093213Z
UID:9289-1730937600-1731023999@3ar-na.fr
SUMMARY:[COMPLET] - Formation "comment intégrer la sobriété dans nos stratégies d'achats publics ?"
DESCRIPTION:Cette session est complète\, merci de nous faire signe par mail si vous êtes intéressés ! \n3AR\, en partenariat avec l’ADEME Nouvelle-Aquitaine\, propose une nouvelle formation sur 2 jours : les 18 octobre et 7 novembre à Bordeaux \n  \nJ1 \nUn contexte global qui exige la sobriété \nIntroduction et approche systémique \nComprendre la sobriété \nIdentifier les grandes pistes d’action dans sa structure \nProposer un outil facilitant la réflexion Redirection écologique\, renoncement et design d’actions de sobriété \n  \n  \nJ2 \nIdentifier les textes de loi qui engagent la collectivité vers des actions de sobriété dans les achats publics \nTravail sur son SPASER\, où puis je inclure de la sobriété ? \nAccompagnement aux changements : comment accompagner ses collègues\, ses responsables dans la transformation collective \nAnalyse du processus décisionnel d’un achat et réflexions autour de processus intégrants la sobriété \n  \nIntervenant : Yohann DIDIER – Ho’oponopono – Consultant en stratégie post anthropocène et gouvernance des organisations \n  \nPublic visé :\nAcheteurs publics (services marchés/commande publique\, agents en charge de la fonction « achats »)\, agents/équipes de Direction impliqués dans les démarches de Développement Durable/RSE\, mais aussi élu(e)s des structures soumises à la réglementation en matière de marchés publics. \n  \nFormation gratuite\, réservée aux adhérents du réseau 3AR \nLes frais de déplacement et de restauration ne sont pas pris en charge. \n  \n 
URL:https://3ar-na.fr/evenement/formation-comment-integrer-la-sobriete-dans-nos-strategies-dachats-publics/
LOCATION:Bordeaux
CATEGORIES:Formations
ORGANIZER;CN="3AR":MAILTO:animation@3ar-na.fr
END:VEVENT
BEGIN:VEVENT
DTSTART;TZID=Europe/Paris:20241108T110000
DTEND;TZID=Europe/Paris:20241108T120000
DTSTAMP:20260422T131147
CREATED:20241015T112645Z
LAST-MODIFIED:20241105T151429Z
UID:9446-1731063600-1731067200@3ar-na.fr
SUMMARY:Webinaire Santé Environnementale : les bonnes pratiques de nettoyage et de désinfection dans les établissements dédiés à la petite enfance
DESCRIPTION:A l’approche de l’entrée en vigueur\, le 1er janvier 2025\, de l’obligation de détenir un “certibiocide désinfectants” pour utiliser des produits biocides\, 3AR\, l’Association Nouvelle-Aquitaine des Achats Publics Responsables et les opérateurs du Monde de la propreté proposent un regard croisé\, et heureusement convergents sur les bonnes pratiques de nettoyage et de désinfection \nVendredi 8 novembre 2024 – de 11h à 12h \n3AR\, L’Association Nouvelle-Aquitaine des Achats Publics Responsables accompagne les structures de Nouvelle-Aquitaine soumises au Code de la commande publique à la mise en œuvre d’achats responsables et compte plus de 80 adhérents. \nDans le cadre de la Stratégie régionale santé environnement & petite enfance portée par l’ARS Nouvelle-Aquitaine\, le réseau 3AR développe\, avec l’expertise en santé environnementale de l’entreprise SAFE-LI des outils à destination des structures publiques souhaitant intégrer les enjeux de santé environnementale au sein de leurs marchés. \nLe Monde de la Propreté regroupe les acteurs du secteur de la propreté\, qui œuvrent pour la reconnaissance et le développement économique et social du secteur. [Parmi ces acteurs\, la FEP\, Fédération des Entreprises de Propreté\, d’Hygiène et services associés représente les 15 000 entreprises du secteur qui emploient plus de 600 000 collaborateurs. Les opérateurs de la profession comme le Fare Propreté\, le fond d’innovation pour le développement économique et social du secteur et le CTIP\, Centre d’expertise technique proposent des accompagnements pour les entreprises sur leurs domaines de compétences.] \nEn sortie de Crise covid\, suite à la publication du Plan national santé environnement en avril 2021 qui rappelle la nécessité\, afin de protéger la santé humaine\, animale et environnementale\, de s’inscrire dans une démarche d’usage raisonné de leur utilisation\, les acteurs du Monde de la Propreté (FEP\, Fare Propreté…) et l’Institut de Recherche Microbiologique de Mitry-Mory\, ont publié un guide sur le maintien de l’hygiène des locaux et lutte contre la transmission manuportée de maladies communautaires pour les prestations de nettoyage en milieu tertiaire et lieux accueillant du public (hors établissements de santé ou médico-sociaux et secteur agroalimentaire) rédigé notamment avec le concours d’experts de l’INRS. \n  \nCe webinaire sera l’occasion de faire le point sur \n– Les bonnes pratiques de nettoyage et de désinfection raisonné\, avec un focus sur les établissements dédiés à la petite enfance \n– Les nouvelles obligations prévues par l’arrêté du 23 janvier 2023 sur l’achat et l’utilisation de produits de désinfection \n  \nInscriptions : https://app.questionnaireweb.com/f/191623/4pKiXMwtS7wF4TqpQdp6jh
URL:https://3ar-na.fr/evenement/webinaire-sante-environnementale-les-bonnes-pratiques-de-nettoyage-et-de-desinfection-dans-les-etablissements-dedies-a-la-petite-enfance/
CATEGORIES:Webinaires
ATTACH;FMTTYPE=image/jpeg:https://3ar-na.fr/wp-content/uploads/2024/10/visuel_webinaire_SE.jpg
END:VEVENT
BEGIN:VEVENT
DTSTART;VALUE=DATE:20241112
DTEND;VALUE=DATE:20241113
DTSTAMP:20260422T131147
CREATED:20240917T144644Z
LAST-MODIFIED:20240917T155208Z
UID:9320-1731369600-1731455999@3ar-na.fr
SUMMARY:Journée technique RECITA
DESCRIPTION:Journée Technique « Bâtiment et économie circulaire »\nQuelles actions pour soutenir et accélérer cette (r)évolution ?\nLe secteur du bâtiment (hors travaux publics) est un producteur significatif de déchets\, avec 46 millions de tonnes par an en France. Il contribue également de manière notable aux émissions de gaz à effet de serre (GES)\, représentant environ 25% des émissions françaises. De plus\, il est un consommateur majeur de matières premières\, telles que l’énergie\, l’eau et les minerais. Face à la pénurie de ressources\, aux évolutions réglementaires\, aux changements climatiques et aux crises économiques\, le secteur du bâtiment doit renforcer sa résilience et sa durabilité. L’économie circulaire se présente comme une alternative durable pour répondre aux défis. \nPour cela des évolutions sont nécessaires à toutes ses étapes afin de réduire la consommation de matières premières\, d’anticiper les usages et de renforcer le tri\, le réemploi et la valorisation des déchets. Sur le territoire néoaquitain\, de nombreuses actions vont déjà dans ce sens\, mais des questions sur les moyens et de méthodes restent à clarifier. \nVenez échanger\, partager et participer à la dynamique régionale lors de la prochaine journée technique Recita le mardi 12 novembre 2024\, à l’Espace CARAT de Angoulême. \n\nProgramme  : \nDe 09h30 à 12h30\n– Accueil café et ouverture du village des solutions\,\n– Présentation du réseau Recita\n– Mot d’ouverture de la  Région Nouvelle-Aquitaine  et l’ ADEME\n– Eclairages nationaux et régionaux par Soltena et CERC – Accueil café et ouverture du village des solutions\,\n– Table ronde n°1 :  » Comment coconstruire un maillage territoriale cohérent de points de collecte des produits et matériaux de construction ?  » avec SMD3\, Syded87\, EC3\, Aléas\, Eco-minero et Valobat (animation Soltena/ CERC).\n– Présentation de l’association 3AR\n– Cocktail déjeunatoire \nDe 13h30 à 17h00\n– Présentation du Collectif CADRESS\n– Table ronde n° 2 :  » Comment faire émerger et pérenniser des dynamiques territoriales autour de l’économie circulaire dans le secteur du batiment ?  » avec Audap 64\, La Mécanique des ruines\, Logelia\, reste des intervenants à confirmer (animation Soltena).- Présentation du Collectif CADRESS\n– Atelier de co-construction autour des Plateformes de réemploi et modèles économiques\n– Village des solutions et échanges B to B. \nEn partenariat avec : CERC\, Collectif CADRESS\, IDRE et ODEYS  \n\n\n\nINSCRIPTION OBLIGATOIRE AVANT LE MARDI 05 NOVEMBRE \nPlus d’informations : David Frugier –   d.frugier@soltena.fr   – 06 49 52 96 86
URL:https://3ar-na.fr/evenement/journee-technique-recita/
LOCATION:Angoulême
CATEGORIES:Evénements externes
END:VEVENT
BEGIN:VEVENT
DTSTART;TZID=Europe/Paris:20241114T090000
DTEND;TZID=Europe/Paris:20241114T123000
DTSTAMP:20260422T131147
CREATED:20240405T135958Z
LAST-MODIFIED:20241113T162332Z
UID:8905-1731574800-1731587400@3ar-na.fr
SUMMARY:Matinale technique - Pau
DESCRIPTION:La commande publique face aux évolutions réglementaires… où en est-on ? \nComment réaliser des achats publics répondant aux enjeux sociétaux tout en restant performants économiquement ? \nCe que vous retirerez de cette matinée: \n\nUn point d’actualité et d’informations sur la commande publique durable / responsable\nDes retours d’expériences d’acheteurs publics engagés sur votre territoire\nUn partage de documents de consultations et d’outils déjà éprouvés\nUne rencontre avec les réseaux et acteurs facilitateurs présents sur votre territoire\n\nPartage d’expérience avec des acheteurs publics du territoire engagés\n \nAvec les témoignages d’adhérents engagés et de nos réseaux régionaux partenaires. \nConsulter le programme \nÉvénement gratuit et ouvert à tous\, dans la limite des places disponibles \nl’événement se tiendra Médiathèque André Labarrère à Pau \nSur inscription – Merci de bien vouloir remplir le formulaire ci-dessous 
URL:https://3ar-na.fr/evenement/matinale-technique-pau/
LOCATION:Pau
CATEGORIES:Matinales
ATTACH;FMTTYPE=image/png:https://3ar-na.fr/wp-content/uploads/2024/04/image007.png
ORGANIZER;CN="3AR":MAILTO:animation@3ar-na.fr
END:VEVENT
BEGIN:VEVENT
DTSTART;TZID=Europe/Paris:20241115T090000
DTEND;TZID=Europe/Paris:20241115T170000
DTSTAMP:20260422T131147
CREATED:20240531T154626Z
LAST-MODIFIED:20240902T153926Z
UID:9122-1731661200-1731690000@3ar-na.fr
SUMMARY:Formation "Resto co":  L’introduction de produits bio\, locaux et de qualité en restauration collective
DESCRIPTION:L’introduction de produits bio\, locaux et de qualité en restauration collective : Zoom sur l’acte d’achat et les marchés publics\nFormation organisée par 3AR en partenariat avec Interbio Nouvelle-Aquitaine\, avec le soutien de la Direction régionale de l’Alimentation\, de l’Agriculture et de la Forêt (DRAAF) \nObjectifs :  \n\nRepérer les intérêts de l’introduction de produits bio\, locaux en restauration collective\nRepérer les freins et leviers à l’introduction de produits bio\, locaux en restauration collective\nIdentifier le marché et l’offre existante\nIdentifier les modalités d’achat et de rédaction d’un marché en vue d’atteindre les objectifs de la loi Egalim\nFormaliser la rédaction d’un marché\n\nCette  formation s’organise en 4 modules permettant aux stagiaires d’acquérir les connaissances sur l’intégration de produits biologiques en restauration collective et les modalités d’achat via les marchés publics : \nModule 1 : Les intérêts et les freins à l’introduction de produits bio\, durables et de qualité \nModule 2 : L’achat public en collectivité \nModule 3 : L’approvisionnement bio\, durable et de qualité et local formalisé en marché \nModule 4 : Exemples de marchés/retour d’expérience \nIntervenants : \nFrédéric Bazille\, chef de projets achats responsables – 3AR – Apesa \nOndine Louis\, chargée de mission – INTERBIO Nouvelle-Aquitaine \nPublic concerné :  \n\nGestionnaire\, chargé de la commande publique\nDirecteur de la restauration collective\nConseiller technique en restauration collective\nCuisinier\nResponsable de production\n\nGratuit\, sur inscription \nMerci de bien vouloir remplir le formulaire d’inscription ci-dessous.
URL:https://3ar-na.fr/evenement/formation-resto-co-lintroduction-de-produits-bio-locaux-et-de-qualite-en-restauration-collective-2/
LOCATION:Siège Communauté de Communes Mellois en Poitou – Melle (79)\, Les Arcades - 2 place de Strasbourg\, Melle\, 79500\, France
CATEGORIES:Formations
ATTACH;FMTTYPE=image/jpeg:https://3ar-na.fr/wp-content/uploads/2023/02/visuel-resto-co.jpg
ORGANIZER;CN="3AR":MAILTO:animation@3ar-na.fr
END:VEVENT
BEGIN:VEVENT
DTSTART;TZID=Europe/Paris:20241121T160000
DTEND;TZID=Europe/Paris:20241121T160000
DTSTAMP:20260422T131147
CREATED:20241021T145108Z
LAST-MODIFIED:20241021T150012Z
UID:9466-1732204800-1732204800@3ar-na.fr
SUMMARY:GT SPASER
DESCRIPTION:Retour du groupe de travail SPASER  pour nos adhérents !\n\nTemps de codéveloppement autour de la question : comment optimiser / automatiser la récolte de nos indicateurs SPASER ? quels outils utiliser ? (outil suivi marché ? outil suivi comptable ? outils environnementaux internes ?)\n\nTémoignage de Bordeaux Métropole\n\nQuand  : le jeudi 21 novembre\, de 16h à 17h – en visio\n\nLes membres du GT SPASER ont d’ores et déjà reçu l’invitation dans leur courrier : intéressé ? Faites signe par mail à l’équipe d’animation !
URL:https://3ar-na.fr/evenement/gt-spaser/
LOCATION:En ligne
CATEGORIES:Groupes de travail adhérents
ATTACH;FMTTYPE=image/png:https://3ar-na.fr/wp-content/uploads/2024/02/logo_SPASER_3AR.png
END:VEVENT
BEGIN:VEVENT
DTSTART;VALUE=DATE:20241125
DTEND;VALUE=DATE:20241127
DTSTAMP:20260422T131147
CREATED:20240417T135651Z
LAST-MODIFIED:20241007T072233Z
UID:8966-1732492800-1732665599@3ar-na.fr
SUMMARY:[COMPLET] - Formation initiale "La commande publique durable" : les 25 et 26 novembre 2024 à Limoges
DESCRIPTION:[SESSION COMPLÈTE]\nACHATS PUBLICS RESPONSABLES : Des achats au service d’une performance globale !\n3AR\, en partenariat avec l’ADEME Nouvelle-Aquitaine et le Réseau RESECO\, propose une formation initiale aux achats publics responsables les lundi 25 et mardi 26 novembre 2024 à Limoges \nObjectif général de la formation :\nÀ l’issue de la formation\, les stagiaires seront en mesure de promouvoir et accompagner la prise en compte de la responsabilité sociétale dans leurs achats. \nObjectifs pédagogiques – Permettre aux stagiaires :\n– de connaître le champ d’application de la commande publique\, son évolution au cours des dernières années et son actualité\n– de savoir expliquer ce qu’est un achat responsable et pourvoir argumenter sur le bien-fondé de la démarche\n– d’identifier toutes les étapes du cycle de l’achat et les opportunités associées pour réaliser un achat responsable\n– d’être en mesure d’organiser et de hiérarchiser son action en matière d’achats responsables\n– de connaître les réseaux achats publics responsables\, leurs travaux et être en mesure d’y participer \nPublic visé :\nAcheteurs publics (services marchés/commande publique\, agents en charge de la fonction « achats »)\, agents/équipes de Direction impliqués dans les démarches de Développement Durable/RSE\, mais aussi élu(e)s des structures soumises à la réglementation en matière de marchés publics. \nFormation gratuite\, réservée aux adhérents du réseau 3AR (limité à 2 agents par structure et par session) \nLes frais de déplacement et de restauration ne sont pas pris en charge. \nConsulter le programme \nCette session est complète\, n’hésitez pas à nous faire signe par mail : animation[a]3ar-na.fr
URL:https://3ar-na.fr/evenement/formation-initiale-la-commande-publique-durable-les-25-et-26-novembre-2024-a-limoges/
LOCATION:Limoges
CATEGORIES:Formations
ATTACH;FMTTYPE=image/jpeg:https://3ar-na.fr/wp-content/uploads/2021/10/Arrière-plan-1.jpg
ORGANIZER;CN="3AR":MAILTO:animation@3ar-na.fr
END:VEVENT
BEGIN:VEVENT
DTSTART;VALUE=DATE:20241126
DTEND;VALUE=DATE:20241127
DTSTAMP:20260422T131147
CREATED:20241017T151157Z
LAST-MODIFIED:20241024T053913Z
UID:9452-1732579200-1732665599@3ar-na.fr
SUMMARY:Sobriété numérique - Engager la démarche dans ma collectivité
DESCRIPTION:Un événement organisé par l’ADEME Nouvelle-Aquitaine ! \nBien que le numérique occupe une place cruciale dans nos modes de vie\, il contribue de manière croissante à la production de gaz à effet de serre et à la consommation de ressources. Découvrez les méthodes pour adopter une stratégie de sobriété numérique et anticiper les évolutions de sa collectivité à travers cette formation. \ninfos par ici : https://rencontres.territoiresentransitions.fr/rencontres/sobriete-numerique—engager-la-demarche-dans-ma-collectivite/session-26-11-2024-nouvelle-aquitaine
URL:https://3ar-na.fr/evenement/sobriete-numerique-engager-la-demarche-dans-ma-collectivite/
LOCATION:Angoulême
CATEGORIES:Evénements externes
END:VEVENT
BEGIN:VEVENT
DTSTART;VALUE=DATE:20241128
DTEND;VALUE=DATE:20241129
DTSTAMP:20260422T131147
CREATED:20240917T133736Z
LAST-MODIFIED:20241127T075443Z
UID:9298-1732752000-1732838399@3ar-na.fr
SUMMARY:Festival NÉO TERRA 2024 - Conférence SPASER et Salon NéoBusiness (28.11.2024)
DESCRIPTION:  \nLe Réseau 3AR sera présent cette année au Festival Néo Terra organisé par la Région Nouvelle-Aquitaine\, autour de deux temps forts : \n  \nCONFÉRENCE GRATUITE\nS’engager avec son SPASER pour une commande publique durable\n________\n \nJeudi 28 novembre 2024\, de 10h à 12h\nAux Chantiers de la Garonne\nZA Quai des Queyries\, Port Bastide\, Bordeaux \nPROGRAMME (programme PDF) \nMerci de vous inscrire ! \n\n\n\n\n\n20241128-SPASER\n\n\n\n\n\n\n\n\n\n    Votre NOM\n        *\n    \n    \n    \n    \n\n\n    Votre Prénom\n        *\n    \n    \n    \n    \n\n\n    Votre Fonction\n        *\n    \n    \n    \n    \n\n\n    Email - Merci de vérifier que l'adresse saisie est correcte sans quoi vous ne recevrez pas les informations en lien avec notre événement !\n        *\n    \n    \n    \n    \n\n\n    Votre STRUCTURE\n        *\n    \n    \n    \n    \n\n\n    Code Postal de votre STRUCTURE\n        *\n    \n    \n    \n    \n\n\n    VILLE de votre STRUCTURE\n        *\n    \n    \n    \n    \n\n\n    Je souhaite participer à la conférence\n        *\n    \n    					\n			 Oui\n					\n			 Non\, mais intéressé pour recevoir les infos / captations de l'événement\n\n    \n    \n\n\n    RGPD\n        *\n    \n    					\n			 Oui\, j'accepte la politique de confidentialité de 3AR\n\n    ​Dans le cadre du RGPD\, nous avons remis à jour notre politique de confidentialité que vous pouvez consulter ici : >> https://3ar-na.fr/politique-de-confidentialite/\nNous vous rappelons que vous pouvez à tout instant exercer votre droit d'accès aux données vous concernant et les faire rectifier en nous contactant directement par mail à animation@3ar-na.fr. Les données personnelles saisies ci-dessus ont pour finalité de vous permettre de pouvoir participer aux différents événements du réseau\n    \n\n\n	\n\nEnvoyer\n\n\n\n	\n			\n			\n				Si vous êtes un humain\, ne remplissez pas ce champ.			\n			\n		\n		\n\n\n\n\n\n\n  \n\n10H-10H20 : LE CONTEXTE\, PAR LE RÉSEAU 3AR\nSPASER\, de quoi on parle ? Pour qui ? Pour quoi ? Comment ? Où en sommes-nous en région Nouvelle-Aquitaine ?\n10H20-11H40 : TABLE RONDE RETOURS D’EXPÉRIENCES\nLes clés de la réussite : méthode\, indicateurs\, suivi\, bilan\, communication…\n> Région Nouvelle-Aquitaine – Émilie Paties\n> Bordeaux Métropole – Fabien Billet\n> Domofrance – Marie-Elise Senac\n> Grand Poitiers Communauté Urbaine – Sylvie Dupoirier\n> Agglomération de la Rochelle – Elodie Albaret-Hicks\n11H40-12H : REGARDS CROISÉS AVEC LE SECTEUR PRIVÉ\nCôté entreprises privées\, comment les démarches achats responsables se formalisent-elles ? Vers des SPASER privés ?\n> Conseil National des Achats – Sabine Jean-Dubourg\n> ADEME – Antoine Bonsch\n\n**************************************************************************************** \nSALON NÉOBUSINESS\nLe salon inversé des achats responsables\, organisé par ADI Nouvelle-Aquitaine\n________\n\nJeudi 28 novembre 2024\, de 9h à 17h\nLa Manufacture\, Darwin\n87 quais des Queyries\, Bordeaux\nSur inscription \nVenez rencontrer le Réseau 3AR sur son stand ! \nAutres temps forts du salon :\n> Remise du Cristal des Achats Nouvelle-Aquitaine\n> Journée « Néotopies » pour vous ressourcer sur les grands enjeux autour de témoignages inspirants \n 
URL:https://3ar-na.fr/evenement/neobusiness-2024-le-salon-inverse-des-achats-responsables/
LOCATION:Les Chantiers de la Garonne – Bordeaux\, ZA Quai des Queyries\, Port Bastide\, Bordeaux\, 33100\, France
CATEGORIES:Evénements externes
ATTACH;FMTTYPE=image/jpeg:https://3ar-na.fr/wp-content/uploads/2024/09/visuel_conf_SPASER_3AR_NeoTerra_2024.jpg
END:VEVENT
END:VCALENDAR