BEGIN:VCALENDAR
VERSION:2.0
PRODID:-//3AR - ECPv6.15.12.2//NONSGML v1.0//EN
CALSCALE:GREGORIAN
METHOD:PUBLISH
X-ORIGINAL-URL:https://3ar-na.fr
X-WR-CALDESC:Évènements pour 3AR
REFRESH-INTERVAL;VALUE=DURATION:PT1H
X-Robots-Tag:noindex
X-PUBLISHED-TTL:PT1H
BEGIN:VTIMEZONE
TZID:Europe/Paris
BEGIN:DAYLIGHT
TZOFFSETFROM:+0100
TZOFFSETTO:+0200
TZNAME:CEST
DTSTART:20230326T010000
END:DAYLIGHT
BEGIN:STANDARD
TZOFFSETFROM:+0200
TZOFFSETTO:+0100
TZNAME:CET
DTSTART:20231029T010000
END:STANDARD
BEGIN:DAYLIGHT
TZOFFSETFROM:+0100
TZOFFSETTO:+0200
TZNAME:CEST
DTSTART:20240331T010000
END:DAYLIGHT
BEGIN:STANDARD
TZOFFSETFROM:+0200
TZOFFSETTO:+0100
TZNAME:CET
DTSTART:20241027T010000
END:STANDARD
BEGIN:DAYLIGHT
TZOFFSETFROM:+0100
TZOFFSETTO:+0200
TZNAME:CEST
DTSTART:20250330T010000
END:DAYLIGHT
BEGIN:STANDARD
TZOFFSETFROM:+0200
TZOFFSETTO:+0100
TZNAME:CET
DTSTART:20251026T010000
END:STANDARD
END:VTIMEZONE
BEGIN:VEVENT
DTSTART;VALUE=DATE:20241210
DTEND;VALUE=DATE:20241211
DTSTAMP:20260422T115432
CREATED:20240926T160436Z
LAST-MODIFIED:20241113T164448Z
UID:9378-1733788800-1733875199@3ar-na.fr
SUMMARY:[COMPLET] Comment intégrer le réemploi dans nos marchés et suivre la démarche ?
DESCRIPTION:UNE JOURNEE POUR FAIRE LE TOUR DE LA QUESTION ! \n[réservé à nos adhérents] \nAvec le soutien de l’ADEME Nouvelle-Aquitaine\, le réseau 3AR propose à ses adhérents des journées de formation / sensibilisation sur les sujets de l’économie circulaire appliquée au bâtiment. \nPublic cible au sein de vos structures : services acheteurs et juridiques\, services opérationnels prescripteurs (Patrimoine\, bâtiments\, opérations) \nIntervenante : Mathilde Billet\, architecte – experte réemploi \nUne session est programmée à Bordeaux le mardi 10 décembre\, merci de vous inscrire en complétant le formulaire ci-dessous ! \nMATIN : le contexte « Réemploi » aujourd’hui \n1 – Mise à niveau\n1.1 – Rappels\n1.2 – Mise en place de la démarche EC\n1.3 – Connaitre son territoire pour répondre à des enjeux liés au réemploi\n1.4 – Les étapes du réemploi \n2 – Vos obligations règlementaire\, le cadre assurantiel\nCadre règlementaire et assurantiel\n2.1 – Obligations légales : cadre réglementaire (généralités\, loi AGEC\, RE2020)\n2.3 – Obligations contractuelles : cadre assurantiel de la construction et du réemploi \nAPRES MIDI : le réemploi dans un projet\n3 – En amont des études : définir une stratégie de réemploi\n3.1 – Chacun son rôle !\n3.1 – Prendre connaissance du contexte\n3.2 – Les sources de matériaux de réemploi\n3.3 – Fixer un objectif de réemploi \n4 – Le réemploi en phase étude\n4.1 – Concevoir avec et pour le réemploi\n4.2 – Faisabilité technique\n4.3 – Faisabilité logistique\n4.4 – Faisabilité économique\n4.5 – Aspect juridique – Cession des matériaux \n5 – Le réemploi en phase travaux\n5.1 – Marché Travaux en réhabilitation/construction\n5.2 – Marché Travaux en déconstruction\n5.3 – Suivi et bilan \n6 – Tout pour faire du réemploi\n6.1 – Présentation des outils disponibles\n6.2 – Présentation des projets en cours à suivre\n6.3 – Présentation des structures ressources en NA et sites internet utiles
URL:https://3ar-na.fr/evenement/comment-integrer-le-reemploi-dans-nos-marches-et-suivre-la-demarche/
LOCATION:Bordeaux
END:VEVENT
BEGIN:VEVENT
DTSTART;TZID=Europe/Paris:20241211T090000
DTEND;TZID=Europe/Paris:20241211T140000
DTSTAMP:20260422T115432
CREATED:20240926T161655Z
LAST-MODIFIED:20241127T085613Z
UID:9386-1733907600-1733925600@3ar-na.fr
SUMMARY:Formation "Achats publics responsables : le rôle de l'élu"
DESCRIPTION:Vous êtes élu et vous souhaitez utiliser les achats publics comme un levier de transition sociale\, économique et écologique des territoires ? \nRejoignez notre première session de la formation Achats publics responsables à destination des élus ! (gratuit) \nCe module a été développé par notre réseau ami et cousin\, le RESECO\, dans le cadre du Plan National des Achats Durables soutenu par le CGDD. Nous le déployons en région avec le soutien de nos élus administrateurs. \n  \nDurant cette demi-journée\, les participants comprendront le contexte et les enjeux\, les outils à leur disposition\, et l’importance de l’élu dans la démarche. \nProgramme :\n1- Introduction et présentations\n2 – Les achats publics durables : pourquoi ?​\n3 – Les achats publics durables : comment ?\n4 – Le rôle des élus​\n5 – Structuration d’une démarche achats durables \nIntervenants : Cyril Gayssot\, élu au Département des Landes et Anne Bentz\, directrice de l’association 3AR \nUne table sera réservée pour les personnes souhaitant poursuivre les échanges. \nMerci de vous inscrire ! \n\n\n\n\n\n20241211-formation élus\n\n\n\n\n\n\n\n\n    Votre NOM\n        *\n    \n    \n    \n    \n\n\n    Votre Prénom\n        *\n    \n    \n    \n    \n\n\n    Votre STRUCTURE\n        *\n    \n    \n    \n    \n\n\n    Votre adresse mail\n        *\n    \n    \n    \n    \n\n\n    Participerez-vous à cette formation ?\n        *\n    \n    					\n			 Oui\n					\n			 Non\n\n    \n    \n\n\n    Participerez-vous au repas pris en commun le midi ?\n        *\n    \n    					\n			 Oui\n					\n			 Non\n\n    \n    \n\n\n    RGPD\n        *\n    \n    					\n			 Oui\n\n    ​Dans le cadre de la RGPD\, nous avons remis à jour notre politique de confidentialité que vous pouvez consulter ici : >> https://3ar-na.fr/politique-de-confidentialite/ Nous vous rappelons que vous pouvez à tout instant exercer votre droit d'accès aux données vous concernant et les faire rectifier en nous contactant directement par mail à animation@3ar-na.fr ​J'accepte la politique de confidentialité de 3AR. Les données personnelles saisies ci-dessus ont pour finalité de vous permettre de pouvoir participer aux différents événements du réseau\n    \n\n\n    Droit à l'image\n        *\n    \n    					\n			 Oui\n					\n			 Non\n\n    "J’autorise 3AR (et ses partenaires) à fixer\, reproduire et communiquer au public mon image par le biais de documents\, photos ou vidéos\, qui pourront être mis en ligne sur le site internet de 3AR (et de ses partenaires) ou diffusés sur tout autre support de communication (presse-écrite\, audiovisuel\, informatique\, Internet etc)\, dans le cadre de la promotion de cet événement\, sans limitation de durée\, sans contrepartie financière et à l’exception de toute opération commerciale"​. "Je reconnais avoir pris connaissance de la clause de droit à l'image et l'accepter"​. \n    \n\n\n	\n\nEnvoyer\n\n\n\n\n	\n			\n			\n				Si vous êtes un humain\, ne remplissez pas ce champ.
URL:https://3ar-na.fr/evenement/formation-achats-publics-responsables-le-role-de-lelu/
LOCATION:Sabres (40)
CATEGORIES:Formations
ATTACH;FMTTYPE=image/jpeg:https://3ar-na.fr/wp-content/uploads/2024/09/img_formation_elus.jpg
END:VEVENT
BEGIN:VEVENT
DTSTART;TZID=Europe/Paris:20241212T090000
DTEND;TZID=Europe/Paris:20241212T100000
DTSTAMP:20260422T115432
CREATED:20241126T140309Z
LAST-MODIFIED:20241126T152104Z
UID:9606-1733994000-1733997600@3ar-na.fr
SUMMARY:Gérer l'incertitude dans les marchés publics intégrant du réemploi
DESCRIPTION:[réservé aux adhérents] \nun temps d’échange avec un expert proposé dans le cadre de nos actions sur l’économie circulaire appliquée aux achats publics dans le secteur du bâtiment. \nIntervenant : Patrick Bernard\, animateur du réseau occitan RESOCC et expert chez Synethic pour le programme Waste 2 build (Toulouse Métropole). \n\n\n\n\n2024-Adh BATEC\n\n\n\n\n\n\n\n\n\n    Email - Merci de vérifier que l'adresse saisie est correcte sans quoi vous ne recevrez pas les informations en lien avec notre événement !\n        *\n    \n    \n    \n    \n\n\n    Votre STRUCTURE (merci de vérifier que votre structure est adhérente)\n        *\n    \n    \n    \n    \n\n\n    Je participerai à ce temps d'échanges\n        *\n    \n    					\n			 Oui\n					\n			 Non\, mais intéressé par les prochains !\n\n    \n    \n\n\n	Quel(s) sujet(s) souhaiteriez-vous aborder lors d'un prochain temps adhérent sur cette thématique? \n		\n	\n	\n	\n	\n\n\n	\n\nEnvoyer\n\n\n\n	\n			\n			\n				Si vous êtes un humain\, ne remplissez pas ce champ.
URL:https://3ar-na.fr/evenement/gerer-lincertitude-dans-les-marches-publics-integrant-du-reemploi/
LOCATION:Webinaire
CATEGORIES:Groupes de travail adhérents
ATTACH;FMTTYPE=image/jpeg:https://3ar-na.fr/wp-content/uploads/2024/11/green-living-wall-vertical-garden-exterior-facade-with-flowers-plants-sunny-summer-day.jpg
END:VEVENT
END:VCALENDAR