BEGIN:VCALENDAR
VERSION:2.0
PRODID:-//3AR - ECPv6.15.12.2//NONSGML v1.0//EN
CALSCALE:GREGORIAN
METHOD:PUBLISH
X-ORIGINAL-URL:https://3ar-na.fr
X-WR-CALDESC:Évènements pour 3AR
REFRESH-INTERVAL;VALUE=DURATION:PT1H
X-Robots-Tag:noindex
X-PUBLISHED-TTL:PT1H
BEGIN:VTIMEZONE
TZID:Europe/Paris
BEGIN:DAYLIGHT
TZOFFSETFROM:+0100
TZOFFSETTO:+0200
TZNAME:CEST
DTSTART:20240331T010000
END:DAYLIGHT
BEGIN:STANDARD
TZOFFSETFROM:+0200
TZOFFSETTO:+0100
TZNAME:CET
DTSTART:20241027T010000
END:STANDARD
BEGIN:DAYLIGHT
TZOFFSETFROM:+0100
TZOFFSETTO:+0200
TZNAME:CEST
DTSTART:20250330T010000
END:DAYLIGHT
BEGIN:STANDARD
TZOFFSETFROM:+0200
TZOFFSETTO:+0100
TZNAME:CET
DTSTART:20251026T010000
END:STANDARD
BEGIN:DAYLIGHT
TZOFFSETFROM:+0100
TZOFFSETTO:+0200
TZNAME:CEST
DTSTART:20260329T010000
END:DAYLIGHT
BEGIN:STANDARD
TZOFFSETFROM:+0200
TZOFFSETTO:+0100
TZNAME:CET
DTSTART:20261025T010000
END:STANDARD
END:VTIMEZONE
BEGIN:VEVENT
DTSTART;VALUE=DATE:20250313
DTEND;VALUE=DATE:20250314
DTSTAMP:20260422T064640
CREATED:20250113T143827Z
LAST-MODIFIED:20250210T092734Z
UID:9782-1741824000-1741910399@3ar-na.fr
SUMMARY:Formation santé environnement à La Rochelle
DESCRIPTION:ACHATS PUBLICS RESPONSABLES\, PETITE ENFANCE ET SANTÉ ENVIRONNEMENTALE\nAvec le soutien de l’Agence Régionale de Santé\, le 3AR propose une formation à destination des services acheteurs et prescripteurs des structures accueillant de jeunes enfants\, désireux de monter en compétences sur la prise en compte des enjeux de santé environnementale dans leurs achats publics. \nPlusieurs sessions sont programmées sur les territoires. \nCette session sera accueillie par l’Agence Régionale de Santé à La Rochelle\, cité administrative Duperré. \nIntervenantes : Anne LAFOURCADE\, agence Safeli et Anne BENTZ\, association 3AR \nObjectif général de la formation :\nÀ l’issue de la formation\, les stagiaires seront en mesure de prendre en compte les enjeux sanitaires et environnementaux dès la réalisation de leurs achats\, conformément au cadre juridique proposé par le Code de la commande publique. \nObjectifs pédagogiques – Permettre aux stagiaires de :\n• Connaître les principaux éléments scientifiques et réglementaires relatifs aux enjeux de « santé environnementale » appliquée à la petite enfance\,\n• S’approprier les leviers juridiques proposés par le cadre de la commande publique\,\n• S’appuyer sur des retours d’expériences et exemples opérationnels transposables dans leur quotidien. \nPublic visé :\nElu(e)s\, prescripteurs des services techniques (santé\, petite enfance\, éducation\, bâtiments/patrimoine…)\, gestionnaires d’établissements\, responsables d’opérations\, agents impliqués dans les procédures d’achats\, équipes juridiques\, agents en charge des démarches RSE/Développement Durable.\nFormation réservée aux structures soumises aux procédures de marchés publics basées en Nouvelle-Aquitaine. \nHoraires : \nAccueil à 9h45 \nDébut de la formation à 10h \nFin de la journée à 17h \n(possibilité de déjeuner ensemble le midi) \nFormation gratuite\, réservée aux structures soumises aux procédures de marchés publics basées en Nouvelle-Aquitaine  \nLes frais de déplacement et de restauration ne sont pas pris en charge. \nConsulter le programme
URL:https://3ar-na.fr/evenement/formation-sante-environnement-a-la-rochelle/
LOCATION:La Rochelle\, France
CATEGORIES:Formations
ATTACH;FMTTYPE=image/png:https://3ar-na.fr/wp-content/uploads/2023/11/Screenshot-2023-11-21-at-09-08-14-Formation-Achats-et-Sante-Enviro-2024.pdf-1.png
END:VEVENT
BEGIN:VEVENT
DTSTART;TZID=Europe/Paris:20250319T110000
DTEND;TZID=Europe/Paris:20250319T120000
DTSTAMP:20260422T064640
CREATED:20250204T142745Z
LAST-MODIFIED:20250317T161557Z
UID:9902-1742382000-1742385600@3ar-na.fr
SUMMARY:Webinaire Budget Vert
DESCRIPTION:Ce webinaire sera l’occasion de faire le point sur la réglementation\, les méthodologies\, et de bénéficier de retours d’expériences de collectivités. \nOrganisé en partenariat avec l’AFNOR \nCONSULTER LE PROGRAMME >> \n  \n\n\n\n\n\n2025-webi BV\n\n\n\n\n\n\n\n\n\n    Votre NOM\n        *\n    \n    \n    \n    \n\n\n    Votre Prénom\n        *\n    \n    \n    \n    \n\n\n    Votre Fonction\n        *\n    \n    \n    \n    \n\n\n    Email - Merci de vérifier que l'adresse saisie est correcte sans quoi vous ne recevrez pas les informations en lien avec notre événement !\n        *\n    \n    \n    \n    \n\n\n    Votre STRUCTURE\n        *\n    \n    \n    \n    \n\n\n    Code Postal de votre STRUCTURE\n        *\n    \n    \n    \n    \n\n\n    VILLE de votre STRUCTURE\n        *\n    \n    \n    \n    \n\n\n    Je souhaite participer au webinaire "budget vert"\n        *\n    \n    					\n			 Oui\n					\n			 Non\, mais intéressé pour recevoir les liens des replays\n\n    \n    \n\n\n    RGPD\n        *\n    \n    					\n			 Oui\, j'accepte la politique de confidentialité de 3AR\n\n    ​Dans le cadre du RGPD\, nous avons remis à jour notre politique de confidentialité que vous pouvez consulter ici : >> https://3ar-na.fr/politique-de-confidentialite/\nNous vous rappelons que vous pouvez à tout instant exercer votre droit d'accès aux données vous concernant et les faire rectifier en nous contactant directement par mail à animation@3ar-na.fr. Les données personnelles saisies ci-dessus ont pour finalité de vous permettre de pouvoir participer aux différents événements du réseau\n    \n\n\n	\n\nEnvoyer\n\n\n\n	\n			\n			\n				Si vous êtes un humain\, ne remplissez pas ce champ.
URL:https://3ar-na.fr/evenement/webinaire-budget-vert/
CATEGORIES:Webinaires
ATTACH;FMTTYPE=image/png:https://3ar-na.fr/wp-content/uploads/2025/02/WEBINAIRE_Budget_Vert-1.png
END:VEVENT
BEGIN:VEVENT
DTSTART;TZID=Europe/Paris:20250320T160000
DTEND;TZID=Europe/Paris:20250320T173000
DTSTAMP:20260422T064640
CREATED:20250220T184855Z
LAST-MODIFIED:20250220T185318Z
UID:10067-1742486400-1742491800@3ar-na.fr
SUMMARY:Groupe de travail SPASER
DESCRIPTION:Réservé adhérents \n\n\n\n\nInscription à un groupe de travail-2025\n\n\n\n\n\n\n\n\n    NOM\n        *\n    \n    \n    \n    \n\n\n    Prénom\n        *\n    \n    \n    \n    \n\n\n    STRUCTURE\n        *\n    \n    \n    \n    \n\n\n    Email\n        *\n    \n    \n    \n    \n\n\n    Je souhaite m'inscrire au groupe de travail suivant (au choix):\n        *\n    \n    					\n			 SPASER\n					\n			 Décarbonation\n					\n			 Techniques d'achats\n					\n			 Bâtiment et économie circulaire\n\n    \n    \n\n\n    Je confirme que je suis bien adhérent à 3AR\n        *\n    \n    					\n			 Oui\, je suis adhérent de 3AR\n\n    \n    \n\n\n     RGPD : J'accepte la politique de confidentialité de 3AR\n        *\n    \n    					\n			 oui\n\n    ​Dans le cadre du RGPD\, nous avons remis à jour notre politique de confidentialité que vous pouvez consulter ici : >> https://3ar-na.fr/politique-de-confidentialite/ \nNous vous rappelons que vous pouvez à tout instant exercer votre droit d'accès aux données vous concernant et les faire rectifier en nous contactant directement par mail à animation@3ar-na.fr ​\nLes données personnelles saisies ci-dessus ont pour finalité de vous permettre de pouvoir télécharger les outils réalisés par le réseau 3AR. \n    \n\n\n	\n\nEnvoyer\n\n\n\n	\n			\n			\n				Si vous êtes un humain\, ne remplissez pas ce champ.
URL:https://3ar-na.fr/evenement/groupe-de-travail-spaser/
CATEGORIES:Groupes de travail adhérents
ATTACH;FMTTYPE=image/png:https://3ar-na.fr/wp-content/uploads/2023/10/picto_adherez_rencontre-e1704217947359.png
END:VEVENT
BEGIN:VEVENT
DTSTART;TZID=Europe/Paris:20250326T140000
DTEND;TZID=Europe/Paris:20250326T153000
DTSTAMP:20260422T064640
CREATED:20250214T094401Z
LAST-MODIFIED:20250319T164158Z
UID:9992-1742997600-1743003000@3ar-na.fr
SUMMARY:Temps adhérents - bâtiments et éco circulaire
DESCRIPTION:Temps de codéveloppement : « des clauses prêtes à l’emploi pour le réemploi\, c’est possible ? » \nPartage d’expérience de Domofrance : Marie-Elise SENAC\, responsable achats et commande publique et Fred ANDRE\, directeur des projets de réhabilitation \n\n\n\n\n2024-Adh BATEC\n\n\n\n\n\n\n\n\n\n    Email - Merci de vérifier que l'adresse saisie est correcte sans quoi vous ne recevrez pas les informations en lien avec notre événement !\n        *\n    \n    \n    \n    \n\n\n    Votre STRUCTURE (merci de vérifier que votre structure est adhérente)\n        *\n    \n    \n    \n    \n\n\n    Je participerai à ce temps d'échanges\n        *\n    \n    					\n			 Oui\n					\n			 Non\, mais intéressé par les prochains !\n\n    \n    \n\n\n	Quel(s) sujet(s) souhaiteriez-vous aborder lors d'un prochain temps adhérent sur cette thématique? \n		\n	\n	\n	\n	\n\n\n	\n\nEnvoyer\n\n\n\n	\n			\n			\n				Si vous êtes un humain\, ne remplissez pas ce champ.
URL:https://3ar-na.fr/evenement/temps-adherents-batiments-et-eco-circulaire/
LOCATION:Webinaire
END:VEVENT
END:VCALENDAR