BEGIN:VCALENDAR
VERSION:2.0
PRODID:-//3AR - ECPv6.15.12.2//NONSGML v1.0//EN
CALSCALE:GREGORIAN
METHOD:PUBLISH
X-WR-CALNAME:3AR
X-ORIGINAL-URL:https://3ar-na.fr
X-WR-CALDESC:Évènements pour 3AR
REFRESH-INTERVAL;VALUE=DURATION:PT1H
X-Robots-Tag:noindex
X-PUBLISHED-TTL:PT1H
BEGIN:VTIMEZONE
TZID:Europe/Paris
BEGIN:DAYLIGHT
TZOFFSETFROM:+0100
TZOFFSETTO:+0200
TZNAME:CEST
DTSTART:20240331T010000
END:DAYLIGHT
BEGIN:STANDARD
TZOFFSETFROM:+0200
TZOFFSETTO:+0100
TZNAME:CET
DTSTART:20241027T010000
END:STANDARD
BEGIN:DAYLIGHT
TZOFFSETFROM:+0100
TZOFFSETTO:+0200
TZNAME:CEST
DTSTART:20250330T010000
END:DAYLIGHT
BEGIN:STANDARD
TZOFFSETFROM:+0200
TZOFFSETTO:+0100
TZNAME:CET
DTSTART:20251026T010000
END:STANDARD
BEGIN:DAYLIGHT
TZOFFSETFROM:+0100
TZOFFSETTO:+0200
TZNAME:CEST
DTSTART:20260329T010000
END:DAYLIGHT
BEGIN:STANDARD
TZOFFSETFROM:+0200
TZOFFSETTO:+0100
TZNAME:CET
DTSTART:20261025T010000
END:STANDARD
END:VTIMEZONE
BEGIN:VEVENT
DTSTART;TZID=Europe/Paris:20250701T093000
DTEND;TZID=Europe/Paris:20250701T163000
DTSTAMP:20260422T002655
CREATED:20250210T150847Z
LAST-MODIFIED:20250528T123050Z
UID:9952-1751362200-1751387400@3ar-na.fr
SUMMARY:[COMPLET] Formation Fresque des Achats Publics Durables en Nouvelle-Aquitaine
DESCRIPTION:[RÉSERVÉ ADHÉRENTS] \nFormée à la Fresque des Achats Publics Durables\, l’équipe du Réseau 3AR propose gratuitement à ses adhérents d’animer cet outil au sein de leur structure et/ou de les former à l’animation de la fresque.\n \nLa Fresque\, c’est quoi ?​ \nCréée par le RES’OCC (réseau régional de la commande publique durable en Occitanie) dans le cadre du PNAD (Plan national pour des achats durables)\, la Fresque des Achats Publics Durables est un outil pédagogique innovant destiné à sensibiliser aux enjeux liés à la commande publique durable. Elle offre une approche systémique qui aide à mieux intégrer les principes du développement durable dans les pratiques d’achat des collectivités et organismes publics. \nC’est un outil ludique\, collaboratif et visuel. \nPour qui ?​ \nAcheteur·euses\, prescripteur·ice·s\, élu·e·s\, et toute personne travaillant en partenariat avec la commande publique. \nComment s’organise un atelier ?​ \nLa Fresque des Achats Publics Durables est composée de deux parties : ​ \n\nUne mise en situation sur un segment d’achat\,​\nUne fresque représentant les différentes étapes du processus achat.​\n\nUn atelier se déroule comme suit :​ \n\nPrésentation de l’outil​ – 10 min\nÉtude de cas (mise en situation sur un segment d’achat)​ – 40 min\nCarte mentale (c’est le cœur de la fresque)​ – 1h\nÉchanges avec les participants​ – 10 min\n\n  \nNombre de places limité. \nCette session est complète\, faites-nous signe si vous êtes intéressés\, on vous informera en primeur de la date de la prochaine session !
URL:https://3ar-na.fr/evenement/lancement-de-la-fresque-des-achats-publics-durables-en-nouvelle-aquitaine/
LOCATION:Villa Valmont\, Villa Valmont\, 20 Rue Sourbes\, Lormont\, 33310\, France
ATTACH;FMTTYPE=image/jpeg:https://3ar-na.fr/wp-content/uploads/2025/02/Presentation-fresque-PDF-VDEF_page-0001.jpg
END:VEVENT
BEGIN:VEVENT
DTSTART;TZID=Europe/Paris:20250710T140000
DTEND;TZID=Europe/Paris:20250710T153000
DTSTAMP:20260422T002655
CREATED:20250627T082300Z
LAST-MODIFIED:20250627T082300Z
UID:10512-1752156000-1752161400@3ar-na.fr
SUMMARY:Rencontres Biodiversité et Territoires - Atelier "Comment utiliser mon budget pour agir en faveur de la biodiversité ?"
DESCRIPTION:Le Réseau 3AR sera présent aux Rencontres Biodiversité et Territoires (RBT) organisées pour sa seconde édition au Palais des Congrès de Bordeaux les 9\, 10 et 11 juillet 2025. \nIl aura le plaisir d’animer l’atelier « Comment utiliser mon budget pour agir en faveur de la biodiversité ? »\, en collaboration avec les équipes du Commissariat Général au Développement Durable. \n  \nAu programme de cet atelier : \n\nLe budget vert et les achats responsables : quel contexte ? – Christophe Amoretti-Hannequin\, Conseiller finance responsable et achats à France Urbaine\nUn levier complémentaire : la dotation aménités rurales – Fanny Lendi-Ramirez\, Direction Générale de l’Aménagement\, du Logement et de la Nature (MTE)\nTable-ronde :\n\nL’élaboration et la mise en œuvre du budget vert de la Ville de Pessac – Yvan Bregeon\, Directeur Général des Services\nLa prise en compte des enjeux de biodiversité dans les marchés publics de la Ville de Saintes – Célia Monnet\, Chargée de transition écologique et Ashley Braun\, Directeur Général Adjoint du Pôle Ressources\n\n\nQuestions/réponses\n\n  \nPour vous inscrire\, rendez-vous sur le site de l’événement. \nL’atelier est complet.
URL:https://3ar-na.fr/evenement/rencontres-biodiversite-et-territoires-atelier-comment-utiliser-mon-budget-pour-agir-en-faveur-de-la-biodiversite/
LOCATION:Palais des Congrès de Bordeaux\, Bordeaux
ATTACH;FMTTYPE=image/jpeg:https://3ar-na.fr/wp-content/uploads/2025/06/Logo_RBT.jpg
END:VEVENT
END:VCALENDAR