BEGIN:VCALENDAR
VERSION:2.0
PRODID:-//3AR - ECPv6.15.12.2//NONSGML v1.0//EN
CALSCALE:GREGORIAN
METHOD:PUBLISH
X-WR-CALNAME:3AR
X-ORIGINAL-URL:https://3ar-na.fr
X-WR-CALDESC:Évènements pour 3AR
REFRESH-INTERVAL;VALUE=DURATION:PT1H
X-Robots-Tag:noindex
X-PUBLISHED-TTL:PT1H
BEGIN:VTIMEZONE
TZID:Europe/Paris
BEGIN:DAYLIGHT
TZOFFSETFROM:+0100
TZOFFSETTO:+0200
TZNAME:CEST
DTSTART:20240331T010000
END:DAYLIGHT
BEGIN:STANDARD
TZOFFSETFROM:+0200
TZOFFSETTO:+0100
TZNAME:CET
DTSTART:20241027T010000
END:STANDARD
BEGIN:DAYLIGHT
TZOFFSETFROM:+0100
TZOFFSETTO:+0200
TZNAME:CEST
DTSTART:20250330T010000
END:DAYLIGHT
BEGIN:STANDARD
TZOFFSETFROM:+0200
TZOFFSETTO:+0100
TZNAME:CET
DTSTART:20251026T010000
END:STANDARD
BEGIN:DAYLIGHT
TZOFFSETFROM:+0100
TZOFFSETTO:+0200
TZNAME:CEST
DTSTART:20260329T010000
END:DAYLIGHT
BEGIN:STANDARD
TZOFFSETFROM:+0200
TZOFFSETTO:+0100
TZNAME:CET
DTSTART:20261025T010000
END:STANDARD
END:VTIMEZONE
BEGIN:VEVENT
DTSTART;TZID=Europe/Paris:20250908T080000
DTEND;TZID=Europe/Paris:20250908T170000
DTSTAMP:20260421T212145
CREATED:20250711T090657Z
LAST-MODIFIED:20250908T081756Z
UID:10674-1757318400-1757350800@3ar-na.fr
SUMMARY:Webinaire MCC
DESCRIPTION:Les Midis Circulaires de la construction reprennent à la rentrée ! \nPour rappel\, 3AR et Odéys\, avec le soutien de l’ADEME Nouvelle-Aquitaine\, vous proposent un cycle de webinaires pour vous informer\, vous inspirer\, partager autour de l’Economie Circulaire dans la Construction \nCe webinaire se tiendra le Lundi 08 Septembre à Midi. Cliquez sur le lien ci-dessous pour vous inscrire ! \nLien d’inscription : https://forms.office.com/Pages/ResponsePage.aspx?id=xo8sB1O3qEaYiIffkHSU4QXWY2hA2xBJnhw_dNyS-n9UN0cyUUtZOFJSNUE3NTFRNlkzS0xPSDBSQSQlQCN0PWcu\n 
URL:https://3ar-na.fr/evenement/webinaire-mcc-sur-la-filiere-menuiserie/
ATTACH;FMTTYPE=image/jpeg:https://3ar-na.fr/wp-content/uploads/2024/12/Logo-midis-circulaires.jpg
END:VEVENT
BEGIN:VEVENT
DTSTART;TZID=Europe/Paris:20250912T103000
DTEND;TZID=Europe/Paris:20250912T120000
DTSTAMP:20260421T212145
CREATED:20250711T081526Z
LAST-MODIFIED:20250828T084613Z
UID:10635-1757673000-1757678400@3ar-na.fr
SUMMARY:Cycle de Webinaires AGEC : Produits textiles
DESCRIPTION:  \nSuite à l’entrée en vigueur des obligations s’imposant aux contrats de la commande publique dans le cadre de l’Article 58 de la Loi AGEC\, 3AR propose à ses adhérents un cycle de webinaires par famille d’achats ! \n  \nDans ce webinaire on s’intéressera à la famille d’achat : Produits textiles à l’exception des équipements de protection individuelle.   \nAu programme :  \n\nRappel des obligations réglementaires du segment concerné\nPrécisions des alternatives existantes\nSélection d’initiatives côté fournisseurs\nRetour d’expérience\nSélection de scénarii contractuels\nTemps d’échanges\nSynthèse des écueils et bonnes pratiques\n\nTéléchargez la fiche de présentation avec le programme détaillé ⤵️ \n\n\nFICHE PARCOURS AGEC \n \n\n\n\n\n\n\n2025-Parcours AGEC\n\n\n\n\n\n\n\n\n    NOM\n        *\n    \n    \n    \n    \n\n\n    Prénom\n        *\n    \n    \n    \n    \n\n\n    STRUCTURE\n        *\n    \n    \n    \n    \n\n\n    Email\n        *\n    \n    \n    \n    \n\n\n    Je souhaite participer à une journée en présentiel (9h30-17h) : \n        *\n    \n    					\n			 à Bordeaux le 2 octobre\n					\n			 à Poitiers le 4 novembre\n					\n			 à Bayonne le 25 novembre (COMPLET)\n					\n			 à Périgueux le 15 décembre\n					\n			 sur mon territoire (merci de préciser)sur mon territoire (merci de préciser)\n					\n			 pas intéressé\n\n    \n    \n\n\n	Je souhaite participer à un ou plusieurs webinaires \n		*\n	\n						\n			 vendredi 12 septembre - 10h30-12h : Produits textiles à l'exception des équipements de protection individuelle\n					\n			 jeudi 18 septembre - 14h-15h30 : Matériel informatique et téléphonie\n					\n			 mardi 23 septembre - 10h30-12h : Consommables d'impression\, matériel de reprographie\n					\n			 lundi 29 septembre - 14h-15h30 : Papier\, fournitures de bureau\n					\n			 vendredi 3 octobre - 10h30-12h : Véhicules\, engins de transports et pièces détachées\n					\n			 jeudi 9 octobre - 10h30-12h : Mobilier et aménagement d'intérieur\n					\n			 jeudi 6 novembre - 10h30-12h : Mobilier urbain\n					\n			 vendredi 14 novembre - 10h30-12h : Equipements de collecte des déchets\n					\n			 jeudi 20 novembre - 9h30-11h : Bocaux et flacons\n					\n			 vendredi 28 novembre - 10h30-12h : Articles et équipements sportifs\n					\n			 lundi 1er décembre - 14h-15h30 : Matériel d'entretien des espaces verts\n					\n			 lundi 8 décembre - 14h-15h30 : Bâtiments modulaires et préfabriqués\n					\n			 vendredi 12 décembre - 10h30-12h : Gros électroménager y compris appareils professionnels\n					\n			 mardi 16 décembre - 14h-15h30 : Jeux et jouets\n\n	\n	\n\n\n    Je confirme que ma structure est bien adhérente à 3AR\n        *\n    \n    					\n			 Oui\n					\n			 Ouh là pas sûr\, je veux bien être recontacté\n\n    \n    \n\n\n     RGPD : J'accepte la politique de confidentialité de 3AR\n        *\n    \n    					\n			 oui\n\n    ​Dans le cadre du RGPD\, nous avons remis à jour notre politique de confidentialité que vous pouvez consulter ici : >> https://3ar-na.fr/politique-de-confidentialite/ \nNous vous rappelons que vous pouvez à tout instant exercer votre droit d'accès aux données vous concernant et les faire rectifier en nous contactant directement par mail à animation@3ar-na.fr ​\nLes données personnelles saisies ci-dessus ont pour finalité de vous permettre de pouvoir recevoir les informations relatives au Parcours AGEC ainsi que les Newsletters mensuelles de 3AR. \n    \n\n\n	\n\nEnvoyer\n\n\n\n	\n			\n			\n				Si vous êtes un humain\, ne remplissez pas ce champ.			\n			\n		\n		\n\n\n\n\n\n\n 
URL:https://3ar-na.fr/evenement/cycle-de-webinaires-agec-produits-textiles/
LOCATION:en visio
CATEGORIES:Webinaires
ATTACH;FMTTYPE=image/png:https://3ar-na.fr/wp-content/uploads/2025/06/vignette_site_Parcours_3AR_loi_AGEC.png
END:VEVENT
BEGIN:VEVENT
DTSTART;VALUE=DATE:20250915
DTEND;VALUE=DATE:20250917
DTSTAMP:20260421T212145
CREATED:20250217T174521Z
LAST-MODIFIED:20250901T100646Z
UID:10034-1757894400-1758067199@3ar-na.fr
SUMMARY:Formation initiale "La commande publique durable" : les 15 et 16 septembre à Bordeaux
DESCRIPTION:[SESSION COMPLÈTE]\nACHATS PUBLICS RESPONSABLES : Des achats au service d’une performance globale !\n3AR\, en partenariat avec l’ADEME Nouvelle-Aquitaine et le Réseau RESECO\, propose une formation initiale aux achats publics responsables \nObjectif général de la formation :\nÀ l’issue de la formation\, les stagiaires seront en mesure de promouvoir et accompagner la prise en compte de la responsabilité sociétale dans leurs achats. \nObjectifs pédagogiques – Permettre aux stagiaires :\n– de connaître le champ d’application de la commande publique\, son évolution au cours des dernières années et son actualité\n– de savoir expliquer ce qu’est un achat responsable et pourvoir argumenter sur le bien-fondé de la démarche\n– d’identifier toutes les étapes du cycle de l’achat et les opportunités associées pour réaliser un achat responsable\n– d’être en mesure d’organiser et de hiérarchiser son action en matière d’achats responsables\n– de connaître les réseaux achats publics responsables\, leurs travaux et être en mesure d’y participer \nPublic visé :\nAcheteurs publics (services marchés/commande publique\, agents en charge de la fonction « achats »)\, agents/équipes de Direction impliqués dans les démarches de Développement Durable/RSE\, mais aussi élu(e)s des structures soumises à la réglementation en matière de marchés publics. \n  \nFormation gratuite\, réservée aux adhérents du réseau 3AR (limité à 2 agents par structure et par session) \nLes frais de déplacement et de restauration ne sont pas pris en charge. \nConsulter le programme \n 
URL:https://3ar-na.fr/evenement/formation-initiale-la-commande-publique-durable-les-15-et-16-septembre-a-bordeaux/
LOCATION:Bordeaux
CATEGORIES:Formations
ATTACH;FMTTYPE=image/jpeg:https://3ar-na.fr/wp-content/uploads/2021/10/Arrière-plan-1.jpg
ORGANIZER;CN="3AR":MAILTO:animation@3ar-na.fr
END:VEVENT
BEGIN:VEVENT
DTSTART;TZID=Europe/Paris:20250916T090000
DTEND;TZID=Europe/Paris:20250916T140000
DTSTAMP:20260421T212145
CREATED:20250626T132226Z
LAST-MODIFIED:20250707T163701Z
UID:10576-1758013200-1758031200@3ar-na.fr
SUMMARY:Formation "Achats publics responsables : le rôle de l'élu"
DESCRIPTION:Vous êtes élu et vous souhaitez utiliser les achats publics comme un levier de transition sociale\, économique et écologique des territoires ? \nRejoignez notre formation Achats publics responsables à destination des élus ! (gratuit) \nCe module a été développé par notre réseau ami et cousin\, le RESECO\, dans le cadre du Plan National des Achats Durables soutenu par le CGDD. Nous le déployons en région avec le soutien de nos élus administrateurs. \n  \nDurant cette demi-journée\, les participants comprendront le contexte et les enjeux\, les outils à leur disposition\, et l’importance de l’élu dans la démarche. \nProgramme :\n1- Introduction et présentations\n2 – Les achats publics durables : pourquoi ?​\n3 – Les achats publics durables : comment ?\n4 – Le rôle des élus​\n5 – Structuration d’une démarche achats durables \nIntervenants : Cyril Gayssot\, élu au Département des Landes et Anne Bentz\, directrice de l’association 3AR \nUne table sera réservée pour les personnes souhaitant poursuivre les échanges. \nMerci de vous inscrire ! \n\n\n\n\n20250916-ELUS\n\n\n\n\n\n\n\n\n\n    Votre NOM\n        *\n    \n    \n    \n    \n\n\n    Votre Prénom\n        *\n    \n    \n    \n    \n\n\n    Votre Fonction\n        *\n    \n    \n    \n    \n\n\n    Votre STRUCTURE\n        *\n    \n    \n    \n    \n\n\n    Email - Merci de vérifier que l'adresse saisie est correcte sans quoi vous ne recevrez pas les informations en lien avec notre événement !\n        *\n    \n    \n    \n    \n\n\n    Participerez-vous à ce temps d'échanges ?\n        *\n    \n    					\n			 Oui\n					\n			 Non\n\n    \n    \n\n\n    Droit d'image\n        *\n    \n    					\n			 Oui\n					\n			 Non\n\n    Clause obligatoire de droit à l'image - "J’autorise 3AR (et ses partenaires) à fixer\, reproduire et communiquer au public mon image par le biais de documents\, photos ou vidéos\, qui pourront être mis en ligne sur le site internet de 3AR (et de ses partenaires) ou diffusés sur tout autre support de communication (presse-écrite\, audiovisuel\, informatique\, Internet etc)\, dans le cadre de la promotion de cet événement\, sans limitation de durée\, sans contrepartie financière et à l’exception de toute opération commerciale"​.\n\n"Je reconnais avoir pris connaissance de la clause de droit à l'image et l'accepter"\n    \n\n\n    RGPD\n        *\n    \n    					\n			 J'accepte la politique de confidentialité de 3AR\n\n    ​Dans le cadre du RGPD\, nous avons remis à jour notre politique de confidentialité que vous pouvez consulter ici : >> https://3ar-na.fr/politique-de-confidentialite/\nNous vous rappelons que vous pouvez à tout instant exercer votre droit d'accès aux données vous concernant et les faire rectifier en nous contactant directement par mail à animation@3ar-na.fr\n\n​J'accepte la politique de confidentialité de 3AR. Les données personnelles saisies ci-dessus ont pour finalité de vous permettre de pouvoir participer aux différents événements du réseau\n    \n\n\n	\n\nEnvoyer\n\n\n\n	\n			\n			\n				Si vous êtes un humain\, ne remplissez pas ce champ.			\n			\n		\n		\n\n\n\n\n\n]
URL:https://3ar-na.fr/evenement/formation-achats-publics-responsables-le-role-de-lelu-2/
LOCATION:Domolandes – Saint Geours de Maremne (40)
CATEGORIES:Formations
ATTACH;FMTTYPE=image/jpeg:https://3ar-na.fr/wp-content/uploads/2024/09/img_formation_elus.jpg
END:VEVENT
BEGIN:VEVENT
DTSTART;TZID=Europe/Paris:20250918T090000
DTEND;TZID=Europe/Paris:20250918T123000
DTSTAMP:20260421T212145
CREATED:20250625T132931Z
LAST-MODIFIED:20250902T070221Z
UID:10553-1758186000-1758198600@3ar-na.fr
SUMMARY:Matinale technique –  Castelmoron-sur-Lot
DESCRIPTION:Achats responsables : Les territoires agissent ! \nCe que vous retirerez de cette matinale\n➢ Une mise à jour juridique et technique sur la Commande Publique et vos procédures d’achat\n➢ Une visibilité sur les encouragements et obligations amenant à la prise en compte des enjeux sanitaires\, sociaux et environnementaux à travers vos achats\n➢ Des retours d’expériences d’acheteurs publics engagés sur votre territoire\n➢ Une rencontre avec les réseaux et acteurs facilitateurs présents sur votre territoire \nPartage d’expérience avec des acheteurs publics du territoire engagés\n \nIntervenant·es : Anne Bentz / Temps d’échanges en co-animation avec les partenaires organisateurs et représentants des structures intervenantes \nConsulter le programme de la matinale \nÉvénement gratuit et ouvert à tous\, dans la limite des places disponibles \nL’événement se tiendra à Castelmoron-sur-Lot (47)\, Salle de l’Olivier\, 1 rue Gabriel Charretier. \nSur inscription – Merci de bien vouloir remplir le formulaire ci-dessous  \n  \n  \n  \n  \n  \n 
URL:https://3ar-na.fr/evenement/matinale-technique-castelmoron-sur-lot/
LOCATION:Castelmoron Sur Lot\, 1 rue Gabriel Charretier\, Castelmoron-Sur-Lot\, 47054\, France
CATEGORIES:Matinales
ATTACH;FMTTYPE=image/png:https://3ar-na.fr/wp-content/uploads/2025/02/logo_matinale_technique_3AR.png
ORGANIZER;CN="3AR":MAILTO:animation@3ar-na.fr
END:VEVENT
BEGIN:VEVENT
DTSTART;TZID=Europe/Paris:20250918T140000
DTEND;TZID=Europe/Paris:20250918T153000
DTSTAMP:20260421T212145
CREATED:20250711T083630Z
LAST-MODIFIED:20250828T084546Z
UID:10643-1758204000-1758209400@3ar-na.fr
SUMMARY:Cycle de Webinaires AGEC : Matériel informatique et téléphonie
DESCRIPTION:  \nSuite à l’entrée en vigueur des obligations s’imposant aux contrats de la commande publique dans le cadre de l’Article 58 de la Loi AGEC\, 3AR propose à ses adhérents un cycle de webinaires par famille d’achats ! \nDans ce webinaire on s’intéressera à la famille d’achat : Matériel informatique et téléphonie. \nAu programme :  \n\nRappel des obligations réglementaires du segment concerné\nPrécisions des alternatives existantes\nSélection d’initiatives côté fournisseurs\nRetour d’expérience\nSélection de scénarii contractuels\nTemps d’échanges\nSynthèse des écueils et bonnes pratiques\n\nTéléchargez la fiche de présentation avec le programme détaillé ⤵️ \n\n\nFICHE PARCOURS AGEC \n \n\n\n\n\n\n2025-Parcours AGEC\n\n\n\n\n\n\n\n\n    NOM\n        *\n    \n    \n    \n    \n\n\n    Prénom\n        *\n    \n    \n    \n    \n\n\n    STRUCTURE\n        *\n    \n    \n    \n    \n\n\n    Email\n        *\n    \n    \n    \n    \n\n\n    Je souhaite participer à une journée en présentiel (9h30-17h) : \n        *\n    \n    					\n			 à Bordeaux le 2 octobre\n					\n			 à Poitiers le 4 novembre\n					\n			 à Bayonne le 25 novembre (COMPLET)\n					\n			 à Périgueux le 15 décembre\n					\n			 sur mon territoire (merci de préciser)sur mon territoire (merci de préciser)\n					\n			 pas intéressé\n\n    \n    \n\n\n	Je souhaite participer à un ou plusieurs webinaires \n		*\n	\n						\n			 vendredi 12 septembre - 10h30-12h : Produits textiles à l'exception des équipements de protection individuelle\n					\n			 jeudi 18 septembre - 14h-15h30 : Matériel informatique et téléphonie\n					\n			 mardi 23 septembre - 10h30-12h : Consommables d'impression\, matériel de reprographie\n					\n			 lundi 29 septembre - 14h-15h30 : Papier\, fournitures de bureau\n					\n			 vendredi 3 octobre - 10h30-12h : Véhicules\, engins de transports et pièces détachées\n					\n			 jeudi 9 octobre - 10h30-12h : Mobilier et aménagement d'intérieur\n					\n			 jeudi 6 novembre - 10h30-12h : Mobilier urbain\n					\n			 vendredi 14 novembre - 10h30-12h : Equipements de collecte des déchets\n					\n			 jeudi 20 novembre - 9h30-11h : Bocaux et flacons\n					\n			 vendredi 28 novembre - 10h30-12h : Articles et équipements sportifs\n					\n			 lundi 1er décembre - 14h-15h30 : Matériel d'entretien des espaces verts\n					\n			 lundi 8 décembre - 14h-15h30 : Bâtiments modulaires et préfabriqués\n					\n			 vendredi 12 décembre - 10h30-12h : Gros électroménager y compris appareils professionnels\n					\n			 mardi 16 décembre - 14h-15h30 : Jeux et jouets\n\n	\n	\n\n\n    Je confirme que ma structure est bien adhérente à 3AR\n        *\n    \n    					\n			 Oui\n					\n			 Ouh là pas sûr\, je veux bien être recontacté\n\n    \n    \n\n\n     RGPD : J'accepte la politique de confidentialité de 3AR\n        *\n    \n    					\n			 oui\n\n    ​Dans le cadre du RGPD\, nous avons remis à jour notre politique de confidentialité que vous pouvez consulter ici : >> https://3ar-na.fr/politique-de-confidentialite/ \nNous vous rappelons que vous pouvez à tout instant exercer votre droit d'accès aux données vous concernant et les faire rectifier en nous contactant directement par mail à animation@3ar-na.fr ​\nLes données personnelles saisies ci-dessus ont pour finalité de vous permettre de pouvoir recevoir les informations relatives au Parcours AGEC ainsi que les Newsletters mensuelles de 3AR. \n    \n\n\n	\n\nEnvoyer\n\n\n\n	\n			\n			\n				Si vous êtes un humain\, ne remplissez pas ce champ.			\n			\n		\n		\n\n\n\n\n\n\n 
URL:https://3ar-na.fr/evenement/cycle-de-webinaires-agec-materiel-informatique-et-telephonie/
LOCATION:en visio
CATEGORIES:Webinaires
ATTACH;FMTTYPE=image/png:https://3ar-na.fr/wp-content/uploads/2025/06/vignette_site_Parcours_3AR_loi_AGEC.png
END:VEVENT
BEGIN:VEVENT
DTSTART;VALUE=DATE:20250922
DTEND;VALUE=DATE:20250924
DTSTAMP:20260421T212145
CREATED:20250217T174606Z
LAST-MODIFIED:20250911T141929Z
UID:10036-1758499200-1758671999@3ar-na.fr
SUMMARY:Formation initiale "La commande publique durable" : les 22 et 23 septembre à Limoges
DESCRIPTION:ACHATS PUBLICS RESPONSABLES : Des achats au service d’une performance globale !\n3AR\, en partenariat avec l’ADEME Nouvelle-Aquitaine et le Réseau RESECO\, propose une formation initiale aux achats publics responsables \nObjectif général de la formation :\nÀ l’issue de la formation\, les stagiaires seront en mesure de promouvoir et accompagner la prise en compte de la responsabilité sociétale dans leurs achats. \nObjectifs pédagogiques – Permettre aux stagiaires :\n– de connaître le champ d’application de la commande publique\, son évolution au cours des dernières années et son actualité\n– de savoir expliquer ce qu’est un achat responsable et pourvoir argumenter sur le bien-fondé de la démarche\n– d’identifier toutes les étapes du cycle de l’achat et les opportunités associées pour réaliser un achat responsable\n– d’être en mesure d’organiser et de hiérarchiser son action en matière d’achats responsables\n– de connaître les réseaux achats publics responsables\, leurs travaux et être en mesure d’y participer \nPublic visé :\nAcheteurs publics (services marchés/commande publique\, agents en charge de la fonction « achats »)\, agents/équipes de Direction impliqués dans les démarches de Développement Durable/RSE\, mais aussi élu(e)s des structures soumises à la réglementation en matière de marchés publics. \n  \nFormation gratuite\, réservée aux adhérents du réseau 3AR (limité à 2 agents par structure et par session) \nLes frais de déplacement et de restauration ne sont pas pris en charge. \nConsulter le programme \nCette session affiche complet\, n’hésitez pas à nous faire signe si vous êtes intéressé !
URL:https://3ar-na.fr/evenement/formation-initiale-la-commande-publique-durable-les-22-et-23-septembre-a-limoges/
LOCATION:Limoges
CATEGORIES:Formations
ATTACH;FMTTYPE=image/jpeg:https://3ar-na.fr/wp-content/uploads/2021/10/Arrière-plan-1.jpg
ORGANIZER;CN="3AR":MAILTO:animation@3ar-na.fr
END:VEVENT
BEGIN:VEVENT
DTSTART;TZID=Europe/Paris:20250923T103000
DTEND;TZID=Europe/Paris:20250923T120000
DTSTAMP:20260421T212145
CREATED:20250711T083919Z
LAST-MODIFIED:20250828T084528Z
UID:10648-1758623400-1758628800@3ar-na.fr
SUMMARY:Cycle de Webinaires AGEC : Consommables d’impression\, matériel de reprographie
DESCRIPTION:  \nSuite à l’entrée en vigueur des obligations s’imposant aux contrats de la commande publique dans le cadre de l’Article 58 de la Loi AGEC\, 3AR propose à ses adhérents un cycle de webinaires par famille d’achats ! \nDans ce webinaire on s’intéressera à la famille d’achat : Consommables d’impression\, matériel de reprographie. \nAu programme :  \n\nRappel des obligations réglementaires du segment concerné\nPrécisions des alternatives existantes\nSélection d’initiatives côté fournisseurs\nRetour d’expérience\nSélection de scénarii contractuels\nTemps d’échanges\nSynthèse des écueils et bonnes pratiques\n\nTéléchargez la fiche de présentation avec le programme détaillé ⤵️ \n\n\nFICHE PARCOURS AGEC \n \n\n\n\n\n\n2025-Parcours AGEC\n\n\n\n\n\n\n\n\n    NOM\n        *\n    \n    \n    \n    \n\n\n    Prénom\n        *\n    \n    \n    \n    \n\n\n    STRUCTURE\n        *\n    \n    \n    \n    \n\n\n    Email\n        *\n    \n    \n    \n    \n\n\n    Je souhaite participer à une journée en présentiel (9h30-17h) : \n        *\n    \n    					\n			 à Bordeaux le 2 octobre\n					\n			 à Poitiers le 4 novembre\n					\n			 à Bayonne le 25 novembre (COMPLET)\n					\n			 à Périgueux le 15 décembre\n					\n			 sur mon territoire (merci de préciser)sur mon territoire (merci de préciser)\n					\n			 pas intéressé\n\n    \n    \n\n\n	Je souhaite participer à un ou plusieurs webinaires \n		*\n	\n						\n			 vendredi 12 septembre - 10h30-12h : Produits textiles à l'exception des équipements de protection individuelle\n					\n			 jeudi 18 septembre - 14h-15h30 : Matériel informatique et téléphonie\n					\n			 mardi 23 septembre - 10h30-12h : Consommables d'impression\, matériel de reprographie\n					\n			 lundi 29 septembre - 14h-15h30 : Papier\, fournitures de bureau\n					\n			 vendredi 3 octobre - 10h30-12h : Véhicules\, engins de transports et pièces détachées\n					\n			 jeudi 9 octobre - 10h30-12h : Mobilier et aménagement d'intérieur\n					\n			 jeudi 6 novembre - 10h30-12h : Mobilier urbain\n					\n			 vendredi 14 novembre - 10h30-12h : Equipements de collecte des déchets\n					\n			 jeudi 20 novembre - 9h30-11h : Bocaux et flacons\n					\n			 vendredi 28 novembre - 10h30-12h : Articles et équipements sportifs\n					\n			 lundi 1er décembre - 14h-15h30 : Matériel d'entretien des espaces verts\n					\n			 lundi 8 décembre - 14h-15h30 : Bâtiments modulaires et préfabriqués\n					\n			 vendredi 12 décembre - 10h30-12h : Gros électroménager y compris appareils professionnels\n					\n			 mardi 16 décembre - 14h-15h30 : Jeux et jouets\n\n	\n	\n\n\n    Je confirme que ma structure est bien adhérente à 3AR\n        *\n    \n    					\n			 Oui\n					\n			 Ouh là pas sûr\, je veux bien être recontacté\n\n    \n    \n\n\n     RGPD : J'accepte la politique de confidentialité de 3AR\n        *\n    \n    					\n			 oui\n\n    ​Dans le cadre du RGPD\, nous avons remis à jour notre politique de confidentialité que vous pouvez consulter ici : >> https://3ar-na.fr/politique-de-confidentialite/ \nNous vous rappelons que vous pouvez à tout instant exercer votre droit d'accès aux données vous concernant et les faire rectifier en nous contactant directement par mail à animation@3ar-na.fr ​\nLes données personnelles saisies ci-dessus ont pour finalité de vous permettre de pouvoir recevoir les informations relatives au Parcours AGEC ainsi que les Newsletters mensuelles de 3AR. \n    \n\n\n	\n\nEnvoyer\n\n\n\n	\n			\n			\n				Si vous êtes un humain\, ne remplissez pas ce champ.			\n			\n		\n		\n\n\n\n\n\n\n 
URL:https://3ar-na.fr/evenement/cycle-de-webinaires-agec-consommables-dimpression-materiel-de-reprographie/
LOCATION:en visio
CATEGORIES:Webinaires
ATTACH;FMTTYPE=image/png:https://3ar-na.fr/wp-content/uploads/2025/06/vignette_site_Parcours_3AR_loi_AGEC.png
END:VEVENT
BEGIN:VEVENT
DTSTART;TZID=Europe/Paris:20250923T133000
DTEND;TZID=Europe/Paris:20250923T150000
DTSTAMP:20260421T212145
CREATED:20250819T140244Z
LAST-MODIFIED:20250819T140250Z
UID:10765-1758634200-1758639600@3ar-na.fr
SUMMARY:Webinaire "économie de la fonctionnalité"
DESCRIPTION:Webinaire organisé par l’ADEME Nouvelle-Aquitaine dans le cadre du référentiel TETE. \nLe réseau 3AR interviendra sur cet événement pour partager l’état des réflexions côté achats publics sur l’intégration des enjeux d’économie de la fonctionnalité et de la coopération \nS’inscrire >>
URL:https://3ar-na.fr/evenement/webinaire-economie-de-la-fonctionnalite/
CATEGORIES:Webinaires
ATTACH;FMTTYPE=image/svg+xml:https://3ar-na.fr/wp-content/uploads/2024/12/ademe-logo-2022-1.svg
END:VEVENT
BEGIN:VEVENT
DTSTART;TZID=Europe/Paris:20250929T140000
DTEND;TZID=Europe/Paris:20250929T153000
DTSTAMP:20260421T212145
CREATED:20250711T084022Z
LAST-MODIFIED:20250828T083653Z
UID:10650-1759154400-1759159800@3ar-na.fr
SUMMARY:Cycle de Webinaires AGEC : Papier\, fournitures de bureau
DESCRIPTION:  \nSuite à l’entrée en vigueur des obligations s’imposant aux contrats de la commande publique dans le cadre de l’Article 58 de la Loi AGEC\, 3AR propose à ses adhérents un cycle de webinaires par famille d’achats ! \nDans ce webinaire on s’intéressera à la famille d’achat : Papier\, fournitures de bureau. \nAu programme :  \n\nRappel des obligations réglementaires du segment concerné\nPrécisions des alternatives existantes\nSélection d’initiatives côté fournisseurs\nRetour d’expérience\nSélection de scénarii contractuels\nTemps d’échanges\nSynthèse des écueils et bonnes pratiques\n\nTéléchargez la fiche de présentation avec le programme détaillé ⤵️ \n\n\nFICHE PARCOURS AGEC \n \n\n\n\n\n\n2025-Parcours AGEC\n\n\n\n\n\n\n\n\n    NOM\n        *\n    \n    \n    \n    \n\n\n    Prénom\n        *\n    \n    \n    \n    \n\n\n    STRUCTURE\n        *\n    \n    \n    \n    \n\n\n    Email\n        *\n    \n    \n    \n    \n\n\n    Je souhaite participer à une journée en présentiel (9h30-17h) : \n        *\n    \n    					\n			 à Bordeaux le 2 octobre\n					\n			 à Poitiers le 4 novembre\n					\n			 à Bayonne le 25 novembre (COMPLET)\n					\n			 à Périgueux le 15 décembre\n					\n			 sur mon territoire (merci de préciser)sur mon territoire (merci de préciser)\n					\n			 pas intéressé\n\n    \n    \n\n\n	Je souhaite participer à un ou plusieurs webinaires \n		*\n	\n						\n			 vendredi 12 septembre - 10h30-12h : Produits textiles à l'exception des équipements de protection individuelle\n					\n			 jeudi 18 septembre - 14h-15h30 : Matériel informatique et téléphonie\n					\n			 mardi 23 septembre - 10h30-12h : Consommables d'impression\, matériel de reprographie\n					\n			 lundi 29 septembre - 14h-15h30 : Papier\, fournitures de bureau\n					\n			 vendredi 3 octobre - 10h30-12h : Véhicules\, engins de transports et pièces détachées\n					\n			 jeudi 9 octobre - 10h30-12h : Mobilier et aménagement d'intérieur\n					\n			 jeudi 6 novembre - 10h30-12h : Mobilier urbain\n					\n			 vendredi 14 novembre - 10h30-12h : Equipements de collecte des déchets\n					\n			 jeudi 20 novembre - 9h30-11h : Bocaux et flacons\n					\n			 vendredi 28 novembre - 10h30-12h : Articles et équipements sportifs\n					\n			 lundi 1er décembre - 14h-15h30 : Matériel d'entretien des espaces verts\n					\n			 lundi 8 décembre - 14h-15h30 : Bâtiments modulaires et préfabriqués\n					\n			 vendredi 12 décembre - 10h30-12h : Gros électroménager y compris appareils professionnels\n					\n			 mardi 16 décembre - 14h-15h30 : Jeux et jouets\n\n	\n	\n\n\n    Je confirme que ma structure est bien adhérente à 3AR\n        *\n    \n    					\n			 Oui\n					\n			 Ouh là pas sûr\, je veux bien être recontacté\n\n    \n    \n\n\n     RGPD : J'accepte la politique de confidentialité de 3AR\n        *\n    \n    					\n			 oui\n\n    ​Dans le cadre du RGPD\, nous avons remis à jour notre politique de confidentialité que vous pouvez consulter ici : >> https://3ar-na.fr/politique-de-confidentialite/ \nNous vous rappelons que vous pouvez à tout instant exercer votre droit d'accès aux données vous concernant et les faire rectifier en nous contactant directement par mail à animation@3ar-na.fr ​\nLes données personnelles saisies ci-dessus ont pour finalité de vous permettre de pouvoir recevoir les informations relatives au Parcours AGEC ainsi que les Newsletters mensuelles de 3AR. \n    \n\n\n	\n\nEnvoyer\n\n\n\n	\n			\n			\n				Si vous êtes un humain\, ne remplissez pas ce champ.			\n			\n		\n		\n\n\n\n\n\n\n 
URL:https://3ar-na.fr/evenement/cycle-de-webinaires-agec-papier-fournitures-de-bureau/
LOCATION:en visio
CATEGORIES:Webinaires
ATTACH;FMTTYPE=image/png:https://3ar-na.fr/wp-content/uploads/2025/06/vignette_site_Parcours_3AR_loi_AGEC.png
END:VEVENT
END:VCALENDAR